BEGIN:VCALENDAR
VERSION:2.0
PRODID:-//Kyle Ketelsen - ECPv6.10.2//NONSGML v1.0//EN
CALSCALE:GREGORIAN
METHOD:PUBLISH
X-ORIGINAL-URL:https://kyleket.com
X-WR-CALDESC:Events for Kyle Ketelsen
REFRESH-INTERVAL;VALUE=DURATION:PT1H
X-Robots-Tag:noindex
X-PUBLISHED-TTL:PT1H
BEGIN:VTIMEZONE
TZID:America/Los_Angeles
BEGIN:DAYLIGHT
TZOFFSETFROM:-0800
TZOFFSETTO:-0700
TZNAME:PDT
DTSTART:20210314T100000
END:DAYLIGHT
BEGIN:STANDARD
TZOFFSETFROM:-0700
TZOFFSETTO:-0800
TZNAME:PST
DTSTART:20211107T090000
END:STANDARD
BEGIN:DAYLIGHT
TZOFFSETFROM:-0800
TZOFFSETTO:-0700
TZNAME:PDT
DTSTART:20220313T100000
END:DAYLIGHT
BEGIN:STANDARD
TZOFFSETFROM:-0700
TZOFFSETTO:-0800
TZNAME:PST
DTSTART:20221106T090000
END:STANDARD
BEGIN:DAYLIGHT
TZOFFSETFROM:-0800
TZOFFSETTO:-0700
TZNAME:PDT
DTSTART:20230312T100000
END:DAYLIGHT
BEGIN:STANDARD
TZOFFSETFROM:-0700
TZOFFSETTO:-0800
TZNAME:PST
DTSTART:20231105T090000
END:STANDARD
BEGIN:DAYLIGHT
TZOFFSETFROM:-0800
TZOFFSETTO:-0700
TZNAME:PDT
DTSTART:20240310T100000
END:DAYLIGHT
BEGIN:STANDARD
TZOFFSETFROM:-0700
TZOFFSETTO:-0800
TZNAME:PST
DTSTART:20241103T090000
END:STANDARD
BEGIN:DAYLIGHT
TZOFFSETFROM:-0800
TZOFFSETTO:-0700
TZNAME:PDT
DTSTART:20250309T100000
END:DAYLIGHT
BEGIN:STANDARD
TZOFFSETFROM:-0700
TZOFFSETTO:-0800
TZNAME:PST
DTSTART:20251102T090000
END:STANDARD
END:VTIMEZONE
BEGIN:VEVENT
DTSTART;TZID=America/Los_Angeles:20250202T140000
DTEND;TZID=America/Los_Angeles:20250202T160000
DTSTAMP:20260423T132017
CREATED:20240420T133959Z
LAST-MODIFIED:20240420T221036Z
UID:10000164-1738504800-1738512000@kyleket.com
SUMMARY:Die Ersten Menschen - Adahm - Dutch National Opera
DESCRIPTION:The first family torn between God and worldly pleasure \nThe first two humans on Earth fell in love. The third human murdered the fourth. Die ersten Menschen tells the story of the first family in the Biblical history of humanity\, Adahm\, Chawa and their two sons Kajin and Chabel. After performances in the midst of the COVID pandemic\, which were highly praised by public and press alike\, this ‘rediscovered’ work by Rudi Stephan is now returning to Dutch National Opera in all its glory. \n“Let’s hope nothing happens to my brain\, as there are still so many great things in it”\, said Rudi Stephan to his mother as he left for the front during the First World War. Two weeks later he was killed. He did not live to see the world premiere of his first opera. In this work\, heavily influenced by the psychoanalysis that was popular in the beginning of the twentieth century\, erotic and incestuous urges take the place of divine love. \nFamily dinner \nDirector Calixto Bieito situates the primaeval conflict in a modern-day setting reminiscent of the family dinner in Luis Buñuel’s film The Discreet Charm of the Bourgeoisie. As the evening progresses\, the underlying tensions can no longer be suppressed and the white tablecloths become increasingly besmirched. The intense\, physical acting that Bieito gets out of his outstanding quartet of performers does true justice to this opera driven by primitive urges. This season’s production reunites the four singers from the previous performance run: soprano Annette Dasch\, bass-baritone Kyle Ketelsen\, baritone Leigh Melrose and tenor John Osborn. The conductor Kwamé Ryan will be tackling Rudi Stephan’s lavish modernistic score for the first time\, together with the Rotterdam Philharmonic Orchestra – with all the musicians on the stage.
URL:https://kyleket.com/event/die-ersten-menschen-adahm-dutch-national-opera/2025-02-02/
LOCATION:Netherlands Opera: Het Muziektheater\, Waterlooplein 22\, Amsterdam\, Amsterdam\, 1011 PG\, Netherlands
ATTACH;FMTTYPE=image/jpeg:https://kyleket.com/wp-content/uploads/2024/04/DEM-general0050-scaled.jpg
END:VEVENT
BEGIN:VEVENT
DTSTART;TZID=America/Los_Angeles:20250130T200000
DTEND;TZID=America/Los_Angeles:20250130T220000
DTSTAMP:20260423T132017
CREATED:20240420T133959Z
LAST-MODIFIED:20240420T221036Z
UID:10000163-1738267200-1738274400@kyleket.com
SUMMARY:Die Ersten Menschen - Adahm - Dutch National Opera
DESCRIPTION:The first family torn between God and worldly pleasure \nThe first two humans on Earth fell in love. The third human murdered the fourth. Die ersten Menschen tells the story of the first family in the Biblical history of humanity\, Adahm\, Chawa and their two sons Kajin and Chabel. After performances in the midst of the COVID pandemic\, which were highly praised by public and press alike\, this ‘rediscovered’ work by Rudi Stephan is now returning to Dutch National Opera in all its glory. \n“Let’s hope nothing happens to my brain\, as there are still so many great things in it”\, said Rudi Stephan to his mother as he left for the front during the First World War. Two weeks later he was killed. He did not live to see the world premiere of his first opera. In this work\, heavily influenced by the psychoanalysis that was popular in the beginning of the twentieth century\, erotic and incestuous urges take the place of divine love. \nFamily dinner \nDirector Calixto Bieito situates the primaeval conflict in a modern-day setting reminiscent of the family dinner in Luis Buñuel’s film The Discreet Charm of the Bourgeoisie. As the evening progresses\, the underlying tensions can no longer be suppressed and the white tablecloths become increasingly besmirched. The intense\, physical acting that Bieito gets out of his outstanding quartet of performers does true justice to this opera driven by primitive urges. This season’s production reunites the four singers from the previous performance run: soprano Annette Dasch\, bass-baritone Kyle Ketelsen\, baritone Leigh Melrose and tenor John Osborn. The conductor Kwamé Ryan will be tackling Rudi Stephan’s lavish modernistic score for the first time\, together with the Rotterdam Philharmonic Orchestra – with all the musicians on the stage.
URL:https://kyleket.com/event/die-ersten-menschen-adahm-dutch-national-opera/2025-01-30/
LOCATION:Netherlands Opera: Het Muziektheater\, Waterlooplein 22\, Amsterdam\, Amsterdam\, 1011 PG\, Netherlands
ATTACH;FMTTYPE=image/jpeg:https://kyleket.com/wp-content/uploads/2024/04/DEM-general0050-scaled.jpg
END:VEVENT
BEGIN:VEVENT
DTSTART;TZID=America/Los_Angeles:20250128T200000
DTEND;TZID=America/Los_Angeles:20250128T220000
DTSTAMP:20260423T132017
CREATED:20240420T133959Z
LAST-MODIFIED:20240420T221036Z
UID:10000162-1738094400-1738101600@kyleket.com
SUMMARY:Die Ersten Menschen - Adahm - Dutch National Opera
DESCRIPTION:The first family torn between God and worldly pleasure \nThe first two humans on Earth fell in love. The third human murdered the fourth. Die ersten Menschen tells the story of the first family in the Biblical history of humanity\, Adahm\, Chawa and their two sons Kajin and Chabel. After performances in the midst of the COVID pandemic\, which were highly praised by public and press alike\, this ‘rediscovered’ work by Rudi Stephan is now returning to Dutch National Opera in all its glory. \n“Let’s hope nothing happens to my brain\, as there are still so many great things in it”\, said Rudi Stephan to his mother as he left for the front during the First World War. Two weeks later he was killed. He did not live to see the world premiere of his first opera. In this work\, heavily influenced by the psychoanalysis that was popular in the beginning of the twentieth century\, erotic and incestuous urges take the place of divine love. \nFamily dinner \nDirector Calixto Bieito situates the primaeval conflict in a modern-day setting reminiscent of the family dinner in Luis Buñuel’s film The Discreet Charm of the Bourgeoisie. As the evening progresses\, the underlying tensions can no longer be suppressed and the white tablecloths become increasingly besmirched. The intense\, physical acting that Bieito gets out of his outstanding quartet of performers does true justice to this opera driven by primitive urges. This season’s production reunites the four singers from the previous performance run: soprano Annette Dasch\, bass-baritone Kyle Ketelsen\, baritone Leigh Melrose and tenor John Osborn. The conductor Kwamé Ryan will be tackling Rudi Stephan’s lavish modernistic score for the first time\, together with the Rotterdam Philharmonic Orchestra – with all the musicians on the stage.
URL:https://kyleket.com/event/die-ersten-menschen-adahm-dutch-national-opera/2025-01-28/
LOCATION:Netherlands Opera: Het Muziektheater\, Waterlooplein 22\, Amsterdam\, Amsterdam\, 1011 PG\, Netherlands
ATTACH;FMTTYPE=image/jpeg:https://kyleket.com/wp-content/uploads/2024/04/DEM-general0050-scaled.jpg
END:VEVENT
BEGIN:VEVENT
DTSTART;TZID=America/Los_Angeles:20250124T200000
DTEND;TZID=America/Los_Angeles:20250124T220000
DTSTAMP:20260423T132017
CREATED:20240420T133959Z
LAST-MODIFIED:20240420T221036Z
UID:10000161-1737748800-1737756000@kyleket.com
SUMMARY:Die Ersten Menschen - Adahm - Dutch National Opera
DESCRIPTION:The first family torn between God and worldly pleasure \nThe first two humans on Earth fell in love. The third human murdered the fourth. Die ersten Menschen tells the story of the first family in the Biblical history of humanity\, Adahm\, Chawa and their two sons Kajin and Chabel. After performances in the midst of the COVID pandemic\, which were highly praised by public and press alike\, this ‘rediscovered’ work by Rudi Stephan is now returning to Dutch National Opera in all its glory. \n“Let’s hope nothing happens to my brain\, as there are still so many great things in it”\, said Rudi Stephan to his mother as he left for the front during the First World War. Two weeks later he was killed. He did not live to see the world premiere of his first opera. In this work\, heavily influenced by the psychoanalysis that was popular in the beginning of the twentieth century\, erotic and incestuous urges take the place of divine love. \nFamily dinner \nDirector Calixto Bieito situates the primaeval conflict in a modern-day setting reminiscent of the family dinner in Luis Buñuel’s film The Discreet Charm of the Bourgeoisie. As the evening progresses\, the underlying tensions can no longer be suppressed and the white tablecloths become increasingly besmirched. The intense\, physical acting that Bieito gets out of his outstanding quartet of performers does true justice to this opera driven by primitive urges. This season’s production reunites the four singers from the previous performance run: soprano Annette Dasch\, bass-baritone Kyle Ketelsen\, baritone Leigh Melrose and tenor John Osborn. The conductor Kwamé Ryan will be tackling Rudi Stephan’s lavish modernistic score for the first time\, together with the Rotterdam Philharmonic Orchestra – with all the musicians on the stage.
URL:https://kyleket.com/event/die-ersten-menschen-adahm-dutch-national-opera/2025-01-24/
LOCATION:Netherlands Opera: Het Muziektheater\, Waterlooplein 22\, Amsterdam\, Amsterdam\, 1011 PG\, Netherlands
ATTACH;FMTTYPE=image/jpeg:https://kyleket.com/wp-content/uploads/2024/04/DEM-general0050-scaled.jpg
END:VEVENT
BEGIN:VEVENT
DTSTART;TZID=America/Los_Angeles:20250122T200000
DTEND;TZID=America/Los_Angeles:20250122T220000
DTSTAMP:20260423T132017
CREATED:20240420T133959Z
LAST-MODIFIED:20240420T221036Z
UID:10000160-1737576000-1737583200@kyleket.com
SUMMARY:Die Ersten Menschen - Adahm - Dutch National Opera
DESCRIPTION:The first family torn between God and worldly pleasure \nThe first two humans on Earth fell in love. The third human murdered the fourth. Die ersten Menschen tells the story of the first family in the Biblical history of humanity\, Adahm\, Chawa and their two sons Kajin and Chabel. After performances in the midst of the COVID pandemic\, which were highly praised by public and press alike\, this ‘rediscovered’ work by Rudi Stephan is now returning to Dutch National Opera in all its glory. \n“Let’s hope nothing happens to my brain\, as there are still so many great things in it”\, said Rudi Stephan to his mother as he left for the front during the First World War. Two weeks later he was killed. He did not live to see the world premiere of his first opera. In this work\, heavily influenced by the psychoanalysis that was popular in the beginning of the twentieth century\, erotic and incestuous urges take the place of divine love. \nFamily dinner \nDirector Calixto Bieito situates the primaeval conflict in a modern-day setting reminiscent of the family dinner in Luis Buñuel’s film The Discreet Charm of the Bourgeoisie. As the evening progresses\, the underlying tensions can no longer be suppressed and the white tablecloths become increasingly besmirched. The intense\, physical acting that Bieito gets out of his outstanding quartet of performers does true justice to this opera driven by primitive urges. This season’s production reunites the four singers from the previous performance run: soprano Annette Dasch\, bass-baritone Kyle Ketelsen\, baritone Leigh Melrose and tenor John Osborn. The conductor Kwamé Ryan will be tackling Rudi Stephan’s lavish modernistic score for the first time\, together with the Rotterdam Philharmonic Orchestra – with all the musicians on the stage.
URL:https://kyleket.com/event/die-ersten-menschen-adahm-dutch-national-opera/2025-01-22/
LOCATION:Netherlands Opera: Het Muziektheater\, Waterlooplein 22\, Amsterdam\, Amsterdam\, 1011 PG\, Netherlands
ATTACH;FMTTYPE=image/jpeg:https://kyleket.com/wp-content/uploads/2024/04/DEM-general0050-scaled.jpg
END:VEVENT
BEGIN:VEVENT
DTSTART;TZID=America/Los_Angeles:20210623T190000
DTEND;TZID=America/Los_Angeles:20210623T230000
DTSTAMP:20260423T132017
CREATED:20230216T134919Z
LAST-MODIFIED:20230216T135203Z
UID:10000056-1624474800-1624489200@kyleket.com
SUMMARY:Adahm - Die Ersten Menschen
DESCRIPTION:
URL:https://kyleket.com/event/adahm-die-ersten-menschen/2021-06-23/
LOCATION:Netherlands Opera: Het Muziektheater\, Waterlooplein 22\, Amsterdam\, Amsterdam\, 1011 PG\, Netherlands
ATTACH;FMTTYPE=image/jpeg:https://kyleket.com/wp-content/uploads/2023/02/7-1.jpg
END:VEVENT
BEGIN:VEVENT
DTSTART;TZID=America/Los_Angeles:20210620T140000
DTEND;TZID=America/Los_Angeles:20210620T180000
DTSTAMP:20260423T132017
CREATED:20230216T134919Z
LAST-MODIFIED:20230216T135203Z
UID:10000055-1624197600-1624212000@kyleket.com
SUMMARY:Adahm - Die Ersten Menschen
DESCRIPTION:
URL:https://kyleket.com/event/adahm-die-ersten-menschen/2021-06-20/
LOCATION:Netherlands Opera: Het Muziektheater\, Waterlooplein 22\, Amsterdam\, Amsterdam\, 1011 PG\, Netherlands
ATTACH;FMTTYPE=image/jpeg:https://kyleket.com/wp-content/uploads/2023/02/7-1.jpg
END:VEVENT
BEGIN:VEVENT
DTSTART;TZID=America/Los_Angeles:20210616T190000
DTEND;TZID=America/Los_Angeles:20210616T230000
DTSTAMP:20260423T132017
CREATED:20230216T134919Z
LAST-MODIFIED:20230216T135203Z
UID:10000054-1623870000-1623884400@kyleket.com
SUMMARY:Adahm - Die Ersten Menschen
DESCRIPTION:
URL:https://kyleket.com/event/adahm-die-ersten-menschen/2021-06-16/
LOCATION:Netherlands Opera: Het Muziektheater\, Waterlooplein 22\, Amsterdam\, Amsterdam\, 1011 PG\, Netherlands
ATTACH;FMTTYPE=image/jpeg:https://kyleket.com/wp-content/uploads/2023/02/7-1.jpg
END:VEVENT
BEGIN:VEVENT
DTSTART;TZID=America/Los_Angeles:20210609T190000
DTEND;TZID=America/Los_Angeles:20210609T230000
DTSTAMP:20260423T132017
CREATED:20230216T134919Z
LAST-MODIFIED:20230216T135203Z
UID:10000053-1623265200-1623279600@kyleket.com
SUMMARY:Adahm - Die Ersten Menschen
DESCRIPTION:
URL:https://kyleket.com/event/adahm-die-ersten-menschen/2021-06-09/
LOCATION:Netherlands Opera: Het Muziektheater\, Waterlooplein 22\, Amsterdam\, Amsterdam\, 1011 PG\, Netherlands
ATTACH;FMTTYPE=image/jpeg:https://kyleket.com/wp-content/uploads/2023/02/7-1.jpg
END:VEVENT
BEGIN:VEVENT
DTSTART;TZID=America/Los_Angeles:20210606T140000
DTEND;TZID=America/Los_Angeles:20210606T180000
DTSTAMP:20260423T132017
CREATED:20230216T134919Z
LAST-MODIFIED:20230216T135203Z
UID:10000052-1622988000-1623002400@kyleket.com
SUMMARY:Adahm - Die Ersten Menschen
DESCRIPTION:
URL:https://kyleket.com/event/adahm-die-ersten-menschen/2021-06-06/
LOCATION:Netherlands Opera: Het Muziektheater\, Waterlooplein 22\, Amsterdam\, Amsterdam\, 1011 PG\, Netherlands
ATTACH;FMTTYPE=image/jpeg:https://kyleket.com/wp-content/uploads/2023/02/7-1.jpg
END:VEVENT
BEGIN:VEVENT
DTSTART;TZID=America/Los_Angeles:20210603T190000
DTEND;TZID=America/Los_Angeles:20210603T230000
DTSTAMP:20260423T132017
CREATED:20230216T134919Z
LAST-MODIFIED:20230216T135203Z
UID:10000051-1622746800-1622761200@kyleket.com
SUMMARY:Adahm - Die Ersten Menschen
DESCRIPTION:
URL:https://kyleket.com/event/adahm-die-ersten-menschen/2021-06-03/
LOCATION:Netherlands Opera: Het Muziektheater\, Waterlooplein 22\, Amsterdam\, Amsterdam\, 1011 PG\, Netherlands
ATTACH;FMTTYPE=image/jpeg:https://kyleket.com/wp-content/uploads/2023/02/7-1.jpg
END:VEVENT
END:VCALENDAR