BEGIN:VCALENDAR
VERSION:2.0
PRODID:-//Kyle Ketelsen - ECPv6.10.2//NONSGML v1.0//EN
CALSCALE:GREGORIAN
METHOD:PUBLISH
X-WR-CALNAME:Kyle Ketelsen
X-ORIGINAL-URL:https://kyleket.com
X-WR-CALDESC:Events for Kyle Ketelsen
REFRESH-INTERVAL;VALUE=DURATION:PT1H
X-Robots-Tag:noindex
X-PUBLISHED-TTL:PT1H
BEGIN:VTIMEZONE
TZID:America/Los_Angeles
BEGIN:DAYLIGHT
TZOFFSETFROM:-0800
TZOFFSETTO:-0700
TZNAME:PDT
DTSTART:20200308T100000
END:DAYLIGHT
BEGIN:STANDARD
TZOFFSETFROM:-0700
TZOFFSETTO:-0800
TZNAME:PST
DTSTART:20201101T090000
END:STANDARD
END:VTIMEZONE
BEGIN:VEVENT
DTSTART;TZID=America/Los_Angeles:20200626T200000
DTEND;TZID=America/Los_Angeles:20200626T233000
DTSTAMP:20260423T163802
CREATED:20230216T141750Z
LAST-MODIFIED:20230216T141812Z
UID:10000064-1593201600-1593214200@kyleket.com
SUMMARY:St. François - St. François d'Assise
DESCRIPTION:
URL:https://kyleket.com/event/st-francois-st-francois-dassise/
LOCATION:Geneva Grand Theatre\, Bd du Théâtre 11\, Geneva\, Geneva\, 1204 Geneve\, Switzerland
ATTACH;FMTTYPE=image/jpeg:https://kyleket.com/wp-content/uploads/2023/02/11-1.jpg
END:VEVENT
END:VCALENDAR