BEGIN:VCALENDAR
VERSION:2.0
PRODID:-//Kyle Ketelsen - ECPv6.10.2//NONSGML v1.0//EN
CALSCALE:GREGORIAN
METHOD:PUBLISH
X-ORIGINAL-URL:https://kyleket.com
X-WR-CALDESC:Events for Kyle Ketelsen
REFRESH-INTERVAL;VALUE=DURATION:PT1H
X-Robots-Tag:noindex
X-PUBLISHED-TTL:PT1H
BEGIN:VTIMEZONE
TZID:America/Los_Angeles
BEGIN:DAYLIGHT
TZOFFSETFROM:-0800
TZOFFSETTO:-0700
TZNAME:PDT
DTSTART:20240310T100000
END:DAYLIGHT
BEGIN:STANDARD
TZOFFSETFROM:-0700
TZOFFSETTO:-0800
TZNAME:PST
DTSTART:20241103T090000
END:STANDARD
END:VTIMEZONE
BEGIN:VEVENT
DTSTART;VALUE=DATE:20241102
DTEND;VALUE=DATE:20241103
DTSTAMP:20260423T140814
CREATED:20240419T164223Z
LAST-MODIFIED:20240420T131347Z
UID:10000159-1730534400-1730566800@kyleket.com
SUMMARY:Faust - Méphistophélès - Canadian Opera Company
DESCRIPTION:Disenchanted by his lifelong quest for knowledge\, the ageing philosopher Faust makes a pact with the devil and trades his soul for eternal youth—to disastrous consequences. \nTenor Long Long is the scholar Faust\, whose pact with Méphistophélès (bass-baritone Kyle Ketelsen) promises to return him to the innocence of youth—and the love of Marguerite\, performed by soprano Kseniia Proshina. Murder and madness ensue\, with demons\, witches\, and a chorus of celestial voices rounding out this lavish spectacle directed by Amy Lane. \n \nwww.gbopera.it · Charles Gounod (1818-1893): “Faust” (1859)
URL:https://kyleket.com/event/faust-mephistopheles-canadian-opera-company/2024-11-02/
LOCATION:Four Seasons Centre for the Performing Arts\, 145 Queen St. W.\, Toronto\, Ontario\, MJ27+6P\, Canada
ATTACH;FMTTYPE=image/jpeg:https://kyleket.com/wp-content/uploads/2024/04/COC2425_Web_Production_Faust_20240115181929_0.jpg
ORGANIZER;CN="Canadian Opera Company":MAILTO:info@coc.ca
END:VEVENT
BEGIN:VEVENT
DTSTART;VALUE=DATE:20241026
DTEND;VALUE=DATE:20241027
DTSTAMP:20260423T140814
CREATED:20240419T164223Z
LAST-MODIFIED:20240420T131347Z
UID:10000158-1729929600-1729962000@kyleket.com
SUMMARY:Faust - Méphistophélès - Canadian Opera Company
DESCRIPTION:Disenchanted by his lifelong quest for knowledge\, the ageing philosopher Faust makes a pact with the devil and trades his soul for eternal youth—to disastrous consequences. \nTenor Long Long is the scholar Faust\, whose pact with Méphistophélès (bass-baritone Kyle Ketelsen) promises to return him to the innocence of youth—and the love of Marguerite\, performed by soprano Kseniia Proshina. Murder and madness ensue\, with demons\, witches\, and a chorus of celestial voices rounding out this lavish spectacle directed by Amy Lane. \n \nwww.gbopera.it · Charles Gounod (1818-1893): “Faust” (1859)
URL:https://kyleket.com/event/faust-mephistopheles-canadian-opera-company/2024-10-26/
LOCATION:Four Seasons Centre for the Performing Arts\, 145 Queen St. W.\, Toronto\, Ontario\, MJ27+6P\, Canada
ATTACH;FMTTYPE=image/jpeg:https://kyleket.com/wp-content/uploads/2024/04/COC2425_Web_Production_Faust_20240115181929_0.jpg
ORGANIZER;CN="Canadian Opera Company":MAILTO:info@coc.ca
END:VEVENT
BEGIN:VEVENT
DTSTART;VALUE=DATE:20241024
DTEND;VALUE=DATE:20241025
DTSTAMP:20260423T140814
CREATED:20240419T164223Z
LAST-MODIFIED:20240420T131347Z
UID:10000157-1729756800-1729789200@kyleket.com
SUMMARY:Faust - Méphistophélès - Canadian Opera Company
DESCRIPTION:Disenchanted by his lifelong quest for knowledge\, the ageing philosopher Faust makes a pact with the devil and trades his soul for eternal youth—to disastrous consequences. \nTenor Long Long is the scholar Faust\, whose pact with Méphistophélès (bass-baritone Kyle Ketelsen) promises to return him to the innocence of youth—and the love of Marguerite\, performed by soprano Kseniia Proshina. Murder and madness ensue\, with demons\, witches\, and a chorus of celestial voices rounding out this lavish spectacle directed by Amy Lane. \n \nwww.gbopera.it · Charles Gounod (1818-1893): “Faust” (1859)
URL:https://kyleket.com/event/faust-mephistopheles-canadian-opera-company/2024-10-24/
LOCATION:Four Seasons Centre for the Performing Arts\, 145 Queen St. W.\, Toronto\, Ontario\, MJ27+6P\, Canada
ATTACH;FMTTYPE=image/jpeg:https://kyleket.com/wp-content/uploads/2024/04/COC2425_Web_Production_Faust_20240115181929_0.jpg
ORGANIZER;CN="Canadian Opera Company":MAILTO:info@coc.ca
END:VEVENT
BEGIN:VEVENT
DTSTART;VALUE=DATE:20241018
DTEND;VALUE=DATE:20241019
DTSTAMP:20260423T140814
CREATED:20240419T164223Z
LAST-MODIFIED:20240420T131347Z
UID:10000156-1729238400-1729270800@kyleket.com
SUMMARY:Faust - Méphistophélès - Canadian Opera Company
DESCRIPTION:Disenchanted by his lifelong quest for knowledge\, the ageing philosopher Faust makes a pact with the devil and trades his soul for eternal youth—to disastrous consequences. \nTenor Long Long is the scholar Faust\, whose pact with Méphistophélès (bass-baritone Kyle Ketelsen) promises to return him to the innocence of youth—and the love of Marguerite\, performed by soprano Kseniia Proshina. Murder and madness ensue\, with demons\, witches\, and a chorus of celestial voices rounding out this lavish spectacle directed by Amy Lane. \n \nwww.gbopera.it · Charles Gounod (1818-1893): “Faust” (1859)
URL:https://kyleket.com/event/faust-mephistopheles-canadian-opera-company/2024-10-18/
LOCATION:Four Seasons Centre for the Performing Arts\, 145 Queen St. W.\, Toronto\, Ontario\, MJ27+6P\, Canada
ATTACH;FMTTYPE=image/jpeg:https://kyleket.com/wp-content/uploads/2024/04/COC2425_Web_Production_Faust_20240115181929_0.jpg
ORGANIZER;CN="Canadian Opera Company":MAILTO:info@coc.ca
END:VEVENT
BEGIN:VEVENT
DTSTART;VALUE=DATE:20241016
DTEND;VALUE=DATE:20241017
DTSTAMP:20260423T140814
CREATED:20240419T164223Z
LAST-MODIFIED:20240420T131347Z
UID:10000155-1729065600-1729098000@kyleket.com
SUMMARY:Faust - Méphistophélès - Canadian Opera Company
DESCRIPTION:Disenchanted by his lifelong quest for knowledge\, the ageing philosopher Faust makes a pact with the devil and trades his soul for eternal youth—to disastrous consequences. \nTenor Long Long is the scholar Faust\, whose pact with Méphistophélès (bass-baritone Kyle Ketelsen) promises to return him to the innocence of youth—and the love of Marguerite\, performed by soprano Kseniia Proshina. Murder and madness ensue\, with demons\, witches\, and a chorus of celestial voices rounding out this lavish spectacle directed by Amy Lane. \n \nwww.gbopera.it · Charles Gounod (1818-1893): “Faust” (1859)
URL:https://kyleket.com/event/faust-mephistopheles-canadian-opera-company/2024-10-16/
LOCATION:Four Seasons Centre for the Performing Arts\, 145 Queen St. W.\, Toronto\, Ontario\, MJ27+6P\, Canada
ATTACH;FMTTYPE=image/jpeg:https://kyleket.com/wp-content/uploads/2024/04/COC2425_Web_Production_Faust_20240115181929_0.jpg
ORGANIZER;CN="Canadian Opera Company":MAILTO:info@coc.ca
END:VEVENT
BEGIN:VEVENT
DTSTART;VALUE=DATE:20241013
DTEND;VALUE=DATE:20241014
DTSTAMP:20260423T140814
CREATED:20240419T164223Z
LAST-MODIFIED:20240420T131347Z
UID:10000154-1728806400-1728838800@kyleket.com
SUMMARY:Faust - Méphistophélès - Canadian Opera Company
DESCRIPTION:Disenchanted by his lifelong quest for knowledge\, the ageing philosopher Faust makes a pact with the devil and trades his soul for eternal youth—to disastrous consequences. \nTenor Long Long is the scholar Faust\, whose pact with Méphistophélès (bass-baritone Kyle Ketelsen) promises to return him to the innocence of youth—and the love of Marguerite\, performed by soprano Kseniia Proshina. Murder and madness ensue\, with demons\, witches\, and a chorus of celestial voices rounding out this lavish spectacle directed by Amy Lane. \n \nwww.gbopera.it · Charles Gounod (1818-1893): “Faust” (1859)
URL:https://kyleket.com/event/faust-mephistopheles-canadian-opera-company/2024-10-13/
LOCATION:Four Seasons Centre for the Performing Arts\, 145 Queen St. W.\, Toronto\, Ontario\, MJ27+6P\, Canada
ATTACH;FMTTYPE=image/jpeg:https://kyleket.com/wp-content/uploads/2024/04/COC2425_Web_Production_Faust_20240115181929_0.jpg
ORGANIZER;CN="Canadian Opera Company":MAILTO:info@coc.ca
END:VEVENT
BEGIN:VEVENT
DTSTART;VALUE=DATE:20241011
DTEND;VALUE=DATE:20241012
DTSTAMP:20260423T140814
CREATED:20240419T164223Z
LAST-MODIFIED:20240420T131347Z
UID:10000153-1728604800-1728691199@kyleket.com
SUMMARY:Faust - Méphistophélès - Canadian Opera Company
DESCRIPTION:Disenchanted by his lifelong quest for knowledge\, the ageing philosopher Faust makes a pact with the devil and trades his soul for eternal youth—to disastrous consequences. \nTenor Long Long is the scholar Faust\, whose pact with Méphistophélès (bass-baritone Kyle Ketelsen) promises to return him to the innocence of youth—and the love of Marguerite\, performed by soprano Kseniia Proshina. Murder and madness ensue\, with demons\, witches\, and a chorus of celestial voices rounding out this lavish spectacle directed by Amy Lane. \n \nwww.gbopera.it · Charles Gounod (1818-1893): “Faust” (1859)
URL:https://kyleket.com/event/faust-mephistopheles-canadian-opera-company/2024-10-11/
LOCATION:Four Seasons Centre for the Performing Arts\, 145 Queen St. W.\, Toronto\, Ontario\, MJ27+6P\, Canada
ATTACH;FMTTYPE=image/jpeg:https://kyleket.com/wp-content/uploads/2024/04/COC2425_Web_Production_Faust_20240115181929_0.jpg
ORGANIZER;CN="Canadian Opera Company":MAILTO:info@coc.ca
END:VEVENT
END:VCALENDAR