BEGIN:VCALENDAR
VERSION:2.0
PRODID:-//Kyle Ketelsen - ECPv6.10.2//NONSGML v1.0//EN
CALSCALE:GREGORIAN
METHOD:PUBLISH
X-WR-CALNAME:Kyle Ketelsen
X-ORIGINAL-URL:https://kyleket.com
X-WR-CALDESC:Events for Kyle Ketelsen
REFRESH-INTERVAL;VALUE=DURATION:PT1H
X-Robots-Tag:noindex
X-PUBLISHED-TTL:PT1H
BEGIN:VTIMEZONE
TZID:America/Los_Angeles
BEGIN:DAYLIGHT
TZOFFSETFROM:-0800
TZOFFSETTO:-0700
TZNAME:PDT
DTSTART:20210314T100000
END:DAYLIGHT
BEGIN:STANDARD
TZOFFSETFROM:-0700
TZOFFSETTO:-0800
TZNAME:PST
DTSTART:20211107T090000
END:STANDARD
BEGIN:DAYLIGHT
TZOFFSETFROM:-0800
TZOFFSETTO:-0700
TZNAME:PDT
DTSTART:20220313T100000
END:DAYLIGHT
BEGIN:STANDARD
TZOFFSETFROM:-0700
TZOFFSETTO:-0800
TZNAME:PST
DTSTART:20221106T090000
END:STANDARD
END:VTIMEZONE
BEGIN:VEVENT
DTSTART;TZID=America/Los_Angeles:20220521T190000
DTEND;TZID=America/Los_Angeles:20220521T230000
DTSTAMP:20260423T102857
CREATED:20230216T134315Z
LAST-MODIFIED:20230217T114810Z
UID:10000050-1653159600-1653174000@kyleket.com
SUMMARY:Kaspar - Der Freischütz
DESCRIPTION:In a village community that holds firm to archaic customs\, the young hunter Max must pass a marksmanship test so he may marry his sweetheart\, Agathe. Of all times now when his shooting has been very much below par! Carl Maria von Weber and his librettist Friedrich Kind fluctuate between ghost story\, fairy tale\, fortune play and interplay between heaven and hell. The plot centres around a diabolical ritual in the “Wolf’s Glen”\, where a pact is made with Samiel to cast magic bullets that never miss their target. Its composer declared that the opera was celebrated by its world premiere audience in Berlin in 1821 with the\, “most incredible enthusiasm”. In the decades that followed\, the piece\, at the time considered nature-oriented and traditional-romantic\, swiftly became one of the most performed operas on German stages. And little wonder it was: In an age with a popular yearning for cultural\, national identification opportunities\, Der Freischütz offered a projection surface for an ideal community. So what about this opera appeals to director Dmitri Tcherniakov today?
URL:https://kyleket.com/event/kaspar-der-freischutz/2022-05-21/
LOCATION:Bavarian State Opera\, Max-Joseph-Platz 2\, Munich\, Munich\, 80539\, Germany
ATTACH;FMTTYPE=image/jpeg:https://kyleket.com/wp-content/uploads/2023/02/6-1.jpg
GEO:48.139799065182;11.578791631733
X-APPLE-STRUCTURED-LOCATION;VALUE=URI;X-ADDRESS=Bavarian State Opera Max-Joseph-Platz 2 Munich Munich 80539 Germany;X-APPLE-RADIUS=500;X-TITLE=Max-Joseph-Platz 2:geo:11.578791631733,48.139799065182
END:VEVENT
BEGIN:VEVENT
DTSTART;TZID=America/Los_Angeles:20220520T190000
DTEND;TZID=America/Los_Angeles:20220520T230000
DTSTAMP:20260423T102857
CREATED:20230216T134315Z
LAST-MODIFIED:20230217T114810Z
UID:10000049-1653073200-1653087600@kyleket.com
SUMMARY:Kaspar - Der Freischütz
DESCRIPTION:In a village community that holds firm to archaic customs\, the young hunter Max must pass a marksmanship test so he may marry his sweetheart\, Agathe. Of all times now when his shooting has been very much below par! Carl Maria von Weber and his librettist Friedrich Kind fluctuate between ghost story\, fairy tale\, fortune play and interplay between heaven and hell. The plot centres around a diabolical ritual in the “Wolf’s Glen”\, where a pact is made with Samiel to cast magic bullets that never miss their target. Its composer declared that the opera was celebrated by its world premiere audience in Berlin in 1821 with the\, “most incredible enthusiasm”. In the decades that followed\, the piece\, at the time considered nature-oriented and traditional-romantic\, swiftly became one of the most performed operas on German stages. And little wonder it was: In an age with a popular yearning for cultural\, national identification opportunities\, Der Freischütz offered a projection surface for an ideal community. So what about this opera appeals to director Dmitri Tcherniakov today?
URL:https://kyleket.com/event/kaspar-der-freischutz/2022-05-20/
LOCATION:Bavarian State Opera\, Max-Joseph-Platz 2\, Munich\, Munich\, 80539\, Germany
ATTACH;FMTTYPE=image/jpeg:https://kyleket.com/wp-content/uploads/2023/02/6-1.jpg
GEO:48.139799065182;11.578791631733
X-APPLE-STRUCTURED-LOCATION;VALUE=URI;X-ADDRESS=Bavarian State Opera Max-Joseph-Platz 2 Munich Munich 80539 Germany;X-APPLE-RADIUS=500;X-TITLE=Max-Joseph-Platz 2:geo:11.578791631733,48.139799065182
END:VEVENT
BEGIN:VEVENT
DTSTART;TZID=America/Los_Angeles:20210215T190000
DTEND;TZID=America/Los_Angeles:20210215T230000
DTSTAMP:20260423T102857
CREATED:20230216T140435Z
LAST-MODIFIED:20230216T140454Z
UID:10000062-1613415600-1613430000@kyleket.com
SUMMARY:Kaspar - Der Freischütz - FREE LIVESTREAM
DESCRIPTION:
URL:https://kyleket.com/event/kaspar-der-freischutz-free-livestream/2021-02-15/
LOCATION:Bavarian State Opera\, Max-Joseph-Platz 2\, Munich\, Munich\, 80539\, Germany
ATTACH;FMTTYPE=image/jpeg:https://kyleket.com/wp-content/uploads/2023/02/9-1.jpg
GEO:48.139799065182;11.578791631733
X-APPLE-STRUCTURED-LOCATION;VALUE=URI;X-ADDRESS=Bavarian State Opera Max-Joseph-Platz 2 Munich Munich 80539 Germany;X-APPLE-RADIUS=500;X-TITLE=Max-Joseph-Platz 2:geo:11.578791631733,48.139799065182
END:VEVENT
BEGIN:VEVENT
DTSTART;TZID=America/Los_Angeles:20210213T190000
DTEND;TZID=America/Los_Angeles:20210213T230000
DTSTAMP:20260423T102857
CREATED:20230216T140435Z
LAST-MODIFIED:20230216T140454Z
UID:10000061-1613242800-1613257200@kyleket.com
SUMMARY:Kaspar - Der Freischütz - FREE LIVESTREAM
DESCRIPTION:
URL:https://kyleket.com/event/kaspar-der-freischutz-free-livestream/2021-02-13/
LOCATION:Bavarian State Opera\, Max-Joseph-Platz 2\, Munich\, Munich\, 80539\, Germany
ATTACH;FMTTYPE=image/jpeg:https://kyleket.com/wp-content/uploads/2023/02/9-1.jpg
GEO:48.139799065182;11.578791631733
X-APPLE-STRUCTURED-LOCATION;VALUE=URI;X-ADDRESS=Bavarian State Opera Max-Joseph-Platz 2 Munich Munich 80539 Germany;X-APPLE-RADIUS=500;X-TITLE=Max-Joseph-Platz 2:geo:11.578791631733,48.139799065182
END:VEVENT
BEGIN:VEVENT
DTSTART;TZID=America/Los_Angeles:20210207T110000
DTEND;TZID=America/Los_Angeles:20210207T150000
DTSTAMP:20260423T102857
CREATED:20230216T140756Z
LAST-MODIFIED:20230216T140756Z
UID:10000063-1612695600-1612710000@kyleket.com
SUMMARY:Kaspar - Der Freischütz - LIVESTREAM
DESCRIPTION:
URL:https://kyleket.com/event/kaspar-der-freischutz-livestream/
LOCATION:Bavarian State Opera\, Max-Joseph-Platz 2\, Munich\, Munich\, 80539\, Germany
ATTACH;FMTTYPE=image/jpeg:https://kyleket.com/wp-content/uploads/2023/02/9-1.jpg
GEO:48.139799065182;11.578791631733
X-APPLE-STRUCTURED-LOCATION;VALUE=URI;X-ADDRESS=Bavarian State Opera Max-Joseph-Platz 2 Munich Munich 80539 Germany;X-APPLE-RADIUS=500;X-TITLE=Max-Joseph-Platz 2:geo:11.578791631733,48.139799065182
END:VEVENT
END:VCALENDAR