BEGIN:VCALENDAR
VERSION:2.0
PRODID:-//Kyle Ketelsen - ECPv6.10.2//NONSGML v1.0//EN
CALSCALE:GREGORIAN
METHOD:PUBLISH
X-ORIGINAL-URL:https://kyleket.com
X-WR-CALDESC:Events for Kyle Ketelsen
REFRESH-INTERVAL;VALUE=DURATION:PT1H
X-Robots-Tag:noindex
X-PUBLISHED-TTL:PT1H
BEGIN:VTIMEZONE
TZID:America/Los_Angeles
BEGIN:DAYLIGHT
TZOFFSETFROM:-0800
TZOFFSETTO:-0700
TZNAME:PDT
DTSTART:20230312T100000
END:DAYLIGHT
BEGIN:STANDARD
TZOFFSETFROM:-0700
TZOFFSETTO:-0800
TZNAME:PST
DTSTART:20231105T090000
END:STANDARD
END:VTIMEZONE
BEGIN:VEVENT
DTSTART;TZID=America/Los_Angeles:20230203T190000
DTEND;TZID=America/Los_Angeles:20230203T223000
DTSTAMP:20260423T181348
CREATED:20230204T100528Z
LAST-MODIFIED:20230325T193601Z
UID:10000023-1675450800-1675463400@kyleket.com
SUMMARY:Don Giovanni - Wiener Staatsoper
DESCRIPTION:The simultaneity of elements of farce\, comic and tragic opera\, low and high style\, and symphonic and sacred music leads into new territory that crosses borders.\nGiovanni travels between all these languages. He himself has no music of his own\, as he makes himself the projection screen of the women he desires: Donna Anna\, brought up in strict paternal care\, who seeks adventure in him; Donna Elvira\, escaped from all ties\, who hope for emotional stability; the lower-class girl Zerlina\, who dreams of social advancement in his arms. The sequence of scenes in the opera is bracketed by Giovanni’s murder of Donna Anna’s father and his return as the dead. In the opera\, he wants to save Don Giovanni from eternal damnation by making him repent of his deeds – which he refuses to do. So it remains questionable who is the loser in this duel\, for Giovanni’s intellectual defiance is unbroken. \n﻿﻿ \n 
URL:https://kyleket.com/event/don-giovanni/2023-02-03/
LOCATION:Vienna State Opera\, Opernring 2\, 1010\, Vienna\, Vienna\, 1010\, Austria
ATTACH;FMTTYPE=image/jpeg:https://kyleket.com/wp-content/uploads/2023/02/csm_Giovanni-Slider-4_e690bed47b-1.jpg
GEO:48.203458490817;16.369716669542
X-APPLE-STRUCTURED-LOCATION;VALUE=URI;X-ADDRESS=Vienna State Opera Opernring 2 1010 Vienna Vienna 1010 Austria;X-APPLE-RADIUS=500;X-TITLE=Opernring 2\, 1010:geo:16.369716669542,48.203458490817
END:VEVENT
BEGIN:VEVENT
DTSTART;TZID=America/Los_Angeles:20230201T190000
DTEND;TZID=America/Los_Angeles:20230201T223000
DTSTAMP:20260423T181348
CREATED:20230204T100528Z
LAST-MODIFIED:20230325T193601Z
UID:10000022-1675278000-1675290600@kyleket.com
SUMMARY:Don Giovanni - Wiener Staatsoper
DESCRIPTION:The simultaneity of elements of farce\, comic and tragic opera\, low and high style\, and symphonic and sacred music leads into new territory that crosses borders.\nGiovanni travels between all these languages. He himself has no music of his own\, as he makes himself the projection screen of the women he desires: Donna Anna\, brought up in strict paternal care\, who seeks adventure in him; Donna Elvira\, escaped from all ties\, who hope for emotional stability; the lower-class girl Zerlina\, who dreams of social advancement in his arms. The sequence of scenes in the opera is bracketed by Giovanni’s murder of Donna Anna’s father and his return as the dead. In the opera\, he wants to save Don Giovanni from eternal damnation by making him repent of his deeds – which he refuses to do. So it remains questionable who is the loser in this duel\, for Giovanni’s intellectual defiance is unbroken. \n﻿﻿ \n 
URL:https://kyleket.com/event/don-giovanni/2023-02-01/
LOCATION:Vienna State Opera\, Opernring 2\, 1010\, Vienna\, Vienna\, 1010\, Austria
ATTACH;FMTTYPE=image/jpeg:https://kyleket.com/wp-content/uploads/2023/02/csm_Giovanni-Slider-4_e690bed47b-1.jpg
GEO:48.203458490817;16.369716669542
X-APPLE-STRUCTURED-LOCATION;VALUE=URI;X-ADDRESS=Vienna State Opera Opernring 2 1010 Vienna Vienna 1010 Austria;X-APPLE-RADIUS=500;X-TITLE=Opernring 2\, 1010:geo:16.369716669542,48.203458490817
END:VEVENT
BEGIN:VEVENT
DTSTART;TZID=America/Los_Angeles:20230129T190000
DTEND;TZID=America/Los_Angeles:20230129T223000
DTSTAMP:20260423T181348
CREATED:20230204T100528Z
LAST-MODIFIED:20230325T193601Z
UID:10000021-1675018800-1675031400@kyleket.com
SUMMARY:Don Giovanni - Wiener Staatsoper
DESCRIPTION:The simultaneity of elements of farce\, comic and tragic opera\, low and high style\, and symphonic and sacred music leads into new territory that crosses borders.\nGiovanni travels between all these languages. He himself has no music of his own\, as he makes himself the projection screen of the women he desires: Donna Anna\, brought up in strict paternal care\, who seeks adventure in him; Donna Elvira\, escaped from all ties\, who hope for emotional stability; the lower-class girl Zerlina\, who dreams of social advancement in his arms. The sequence of scenes in the opera is bracketed by Giovanni’s murder of Donna Anna’s father and his return as the dead. In the opera\, he wants to save Don Giovanni from eternal damnation by making him repent of his deeds – which he refuses to do. So it remains questionable who is the loser in this duel\, for Giovanni’s intellectual defiance is unbroken. \n﻿﻿ \n 
URL:https://kyleket.com/event/don-giovanni/2023-01-29/
LOCATION:Vienna State Opera\, Opernring 2\, 1010\, Vienna\, Vienna\, 1010\, Austria
ATTACH;FMTTYPE=image/jpeg:https://kyleket.com/wp-content/uploads/2023/02/csm_Giovanni-Slider-4_e690bed47b-1.jpg
GEO:48.203458490817;16.369716669542
X-APPLE-STRUCTURED-LOCATION;VALUE=URI;X-ADDRESS=Vienna State Opera Opernring 2 1010 Vienna Vienna 1010 Austria;X-APPLE-RADIUS=500;X-TITLE=Opernring 2\, 1010:geo:16.369716669542,48.203458490817
END:VEVENT
BEGIN:VEVENT
DTSTART;TZID=America/Los_Angeles:20230126T190000
DTEND;TZID=America/Los_Angeles:20230126T223000
DTSTAMP:20260423T181348
CREATED:20230204T100528Z
LAST-MODIFIED:20230325T193601Z
UID:10000020-1674759600-1674772200@kyleket.com
SUMMARY:Don Giovanni - Wiener Staatsoper
DESCRIPTION:The simultaneity of elements of farce\, comic and tragic opera\, low and high style\, and symphonic and sacred music leads into new territory that crosses borders.\nGiovanni travels between all these languages. He himself has no music of his own\, as he makes himself the projection screen of the women he desires: Donna Anna\, brought up in strict paternal care\, who seeks adventure in him; Donna Elvira\, escaped from all ties\, who hope for emotional stability; the lower-class girl Zerlina\, who dreams of social advancement in his arms. The sequence of scenes in the opera is bracketed by Giovanni’s murder of Donna Anna’s father and his return as the dead. In the opera\, he wants to save Don Giovanni from eternal damnation by making him repent of his deeds – which he refuses to do. So it remains questionable who is the loser in this duel\, for Giovanni’s intellectual defiance is unbroken. \n﻿﻿ \n 
URL:https://kyleket.com/event/don-giovanni/2023-01-26/
LOCATION:Vienna State Opera\, Opernring 2\, 1010\, Vienna\, Vienna\, 1010\, Austria
ATTACH;FMTTYPE=image/jpeg:https://kyleket.com/wp-content/uploads/2023/02/csm_Giovanni-Slider-4_e690bed47b-1.jpg
GEO:48.203458490817;16.369716669542
X-APPLE-STRUCTURED-LOCATION;VALUE=URI;X-ADDRESS=Vienna State Opera Opernring 2 1010 Vienna Vienna 1010 Austria;X-APPLE-RADIUS=500;X-TITLE=Opernring 2\, 1010:geo:16.369716669542,48.203458490817
END:VEVENT
END:VCALENDAR