BEGIN:VCALENDAR
VERSION:2.0
PRODID:-//Kyle Ketelsen - ECPv6.10.2//NONSGML v1.0//EN
CALSCALE:GREGORIAN
METHOD:PUBLISH
X-ORIGINAL-URL:https://kyleket.com
X-WR-CALDESC:Events for Kyle Ketelsen
REFRESH-INTERVAL;VALUE=DURATION:PT1H
X-Robots-Tag:noindex
X-PUBLISHED-TTL:PT1H
BEGIN:VTIMEZONE
TZID:Europe/Berlin
BEGIN:DAYLIGHT
TZOFFSETFROM:+0100
TZOFFSETTO:+0200
TZNAME:CEST
DTSTART:20250330T010000
END:DAYLIGHT
BEGIN:STANDARD
TZOFFSETFROM:+0200
TZOFFSETTO:+0100
TZNAME:CET
DTSTART:20251026T010000
END:STANDARD
END:VTIMEZONE
BEGIN:VTIMEZONE
TZID:America/Los_Angeles
BEGIN:DAYLIGHT
TZOFFSETFROM:-0800
TZOFFSETTO:-0700
TZNAME:PDT
DTSTART:20240310T100000
END:DAYLIGHT
BEGIN:STANDARD
TZOFFSETFROM:-0700
TZOFFSETTO:-0800
TZNAME:PST
DTSTART:20241103T090000
END:STANDARD
END:VTIMEZONE
BEGIN:VEVENT
DTSTART;TZID=Europe/Berlin:20251012T193000
DTEND;TZID=Europe/Berlin:20251012T213000
DTSTAMP:20260423T113225
CREATED:20250311T153049Z
LAST-MODIFIED:20250311T153230Z
UID:10000192-1760297400-1760304600@kyleket.com
SUMMARY:Salome - Jochanaan - Staatsoper Hamburg
DESCRIPTION:Under the face of the wandering moon\, spirit and body quarrel in all their greatness and wretchedness until the blood of two bodies flows. Strauss remains close to Wilde’s re-creation of the biblical material\, which leads Salome from her mother’s tool to autonomy. It is she who\, in her unfulfilled desire for the liberatingly different\, the body of the prophet Jochanaan\, seeks revenge and demands his head – a price the male-dominated society around Herod is willing to pay for their dance. Now that Salome holds his severed head in her hands\, she can kiss Jochanaan\, possess him if not alive\, then dead. As if under a burning glass\, Strauss pours Oscar Wilde’s demonic dramaturgy into sound like an eruption of the psyche\, accompanying his protagonist from her failed escape from the decadence of her existence to her death. \nProduction: Dmitri Tcherniakov\nCostumes: Elena Zaytseva\nLighting: Gleb Filshtinsky\nDramaturgy: Tatiana Verestchagina\, Janina Zell \nIn German language with German and English surtitles\nSupported by the Foundation for the promotion of the Hamburg State Opera \n \nGunter · Richard Strauss: Salome ROH
URL:https://kyleket.com/event/salome-jochanaan-staatsoper-hamburg/2025-10-12/
LOCATION:Staatsoper Hamburg\, Dammtorstraße 28\, Hamburg\, 20354\, Germany
ATTACH;FMTTYPE=image/jpeg:https://kyleket.com/wp-content/uploads/2023/03/Salome-Hamburg.jpeg
END:VEVENT
BEGIN:VEVENT
DTSTART;TZID=Europe/Berlin:20251009T193000
DTEND;TZID=Europe/Berlin:20251009T213000
DTSTAMP:20260423T113225
CREATED:20250311T153049Z
LAST-MODIFIED:20250311T153230Z
UID:10000191-1760038200-1760045400@kyleket.com
SUMMARY:Salome - Jochanaan - Staatsoper Hamburg
DESCRIPTION:Under the face of the wandering moon\, spirit and body quarrel in all their greatness and wretchedness until the blood of two bodies flows. Strauss remains close to Wilde’s re-creation of the biblical material\, which leads Salome from her mother’s tool to autonomy. It is she who\, in her unfulfilled desire for the liberatingly different\, the body of the prophet Jochanaan\, seeks revenge and demands his head – a price the male-dominated society around Herod is willing to pay for their dance. Now that Salome holds his severed head in her hands\, she can kiss Jochanaan\, possess him if not alive\, then dead. As if under a burning glass\, Strauss pours Oscar Wilde’s demonic dramaturgy into sound like an eruption of the psyche\, accompanying his protagonist from her failed escape from the decadence of her existence to her death. \nProduction: Dmitri Tcherniakov\nCostumes: Elena Zaytseva\nLighting: Gleb Filshtinsky\nDramaturgy: Tatiana Verestchagina\, Janina Zell \nIn German language with German and English surtitles\nSupported by the Foundation for the promotion of the Hamburg State Opera \n \nGunter · Richard Strauss: Salome ROH
URL:https://kyleket.com/event/salome-jochanaan-staatsoper-hamburg/2025-10-09/
LOCATION:Staatsoper Hamburg\, Dammtorstraße 28\, Hamburg\, 20354\, Germany
ATTACH;FMTTYPE=image/jpeg:https://kyleket.com/wp-content/uploads/2023/03/Salome-Hamburg.jpeg
END:VEVENT
BEGIN:VEVENT
DTSTART;TZID=Europe/Berlin:20251007T190000
DTEND;TZID=Europe/Berlin:20251007T210000
DTSTAMP:20260423T113225
CREATED:20250311T153049Z
LAST-MODIFIED:20250311T153230Z
UID:10000190-1759863600-1759870800@kyleket.com
SUMMARY:Salome - Jochanaan - Staatsoper Hamburg
DESCRIPTION:Under the face of the wandering moon\, spirit and body quarrel in all their greatness and wretchedness until the blood of two bodies flows. Strauss remains close to Wilde’s re-creation of the biblical material\, which leads Salome from her mother’s tool to autonomy. It is she who\, in her unfulfilled desire for the liberatingly different\, the body of the prophet Jochanaan\, seeks revenge and demands his head – a price the male-dominated society around Herod is willing to pay for their dance. Now that Salome holds his severed head in her hands\, she can kiss Jochanaan\, possess him if not alive\, then dead. As if under a burning glass\, Strauss pours Oscar Wilde’s demonic dramaturgy into sound like an eruption of the psyche\, accompanying his protagonist from her failed escape from the decadence of her existence to her death. \nProduction: Dmitri Tcherniakov\nCostumes: Elena Zaytseva\nLighting: Gleb Filshtinsky\nDramaturgy: Tatiana Verestchagina\, Janina Zell \nIn German language with German and English surtitles\nSupported by the Foundation for the promotion of the Hamburg State Opera \n \nGunter · Richard Strauss: Salome ROH
URL:https://kyleket.com/event/salome-jochanaan-staatsoper-hamburg/2025-10-07/
LOCATION:Staatsoper Hamburg\, Dammtorstraße 28\, Hamburg\, 20354\, Germany
ATTACH;FMTTYPE=image/jpeg:https://kyleket.com/wp-content/uploads/2023/03/Salome-Hamburg.jpeg
END:VEVENT
BEGIN:VEVENT
DTSTART;TZID=Europe/Berlin:20251005T180000
DTEND;TZID=Europe/Berlin:20251005T200000
DTSTAMP:20260423T113225
CREATED:20250311T153049Z
LAST-MODIFIED:20250311T153230Z
UID:10000189-1759687200-1759694400@kyleket.com
SUMMARY:Salome - Jochanaan - Staatsoper Hamburg
DESCRIPTION:Under the face of the wandering moon\, spirit and body quarrel in all their greatness and wretchedness until the blood of two bodies flows. Strauss remains close to Wilde’s re-creation of the biblical material\, which leads Salome from her mother’s tool to autonomy. It is she who\, in her unfulfilled desire for the liberatingly different\, the body of the prophet Jochanaan\, seeks revenge and demands his head – a price the male-dominated society around Herod is willing to pay for their dance. Now that Salome holds his severed head in her hands\, she can kiss Jochanaan\, possess him if not alive\, then dead. As if under a burning glass\, Strauss pours Oscar Wilde’s demonic dramaturgy into sound like an eruption of the psyche\, accompanying his protagonist from her failed escape from the decadence of her existence to her death. \nProduction: Dmitri Tcherniakov\nCostumes: Elena Zaytseva\nLighting: Gleb Filshtinsky\nDramaturgy: Tatiana Verestchagina\, Janina Zell \nIn German language with German and English surtitles\nSupported by the Foundation for the promotion of the Hamburg State Opera \n \nGunter · Richard Strauss: Salome ROH
URL:https://kyleket.com/event/salome-jochanaan-staatsoper-hamburg/2025-10-05/
LOCATION:Staatsoper Hamburg\, Dammtorstraße 28\, Hamburg\, 20354\, Germany
ATTACH;FMTTYPE=image/jpeg:https://kyleket.com/wp-content/uploads/2023/03/Salome-Hamburg.jpeg
END:VEVENT
BEGIN:VEVENT
DTSTART;TZID=America/Los_Angeles:20241119T193000
DTEND;TZID=America/Los_Angeles:20241119T213000
DTSTAMP:20260423T113225
CREATED:20240908T145240Z
LAST-MODIFIED:20240908T145306Z
UID:10000178-1732044600-1732051800@kyleket.com
SUMMARY:Elektra - Orest
DESCRIPTION:The war is over\, and tragedy takes its course: the mother and her lover murder the father upon his return. The daughter hides her brother\, keeping him safe. – Every day\, Elektra thinks of her murdered father\, plotting blood-stained celebrations of victory and waiting for the moment when her brother\, reared as an avenger\, returns. Under one roof with her father’s murderers\, thirst for blood and revenge collide with the future plans of her younger sister\, who longs for marriage and children\, a life in harmony and bliss. The mother is governed by another delusion: “It is not a word\, it is not pain\, it does not pinch me or strangle me\, … and yet it is so terrible that my soul wishes it had been hanged\, and every part of my body cries out for death.” Sacrifice is meant to bring relief. \nDirector and Set Design: Dmitri Tcherniakov\nAssistant Director: Thorsten Cölle\nCostumes: Elena Zaytseva\nLight: Gleb Filshtinsky\nVideo: Tieni Burkhalter\nDramaturgy: Tatiana Werestchagina \n \nJorge Coli · Richard Strauss – Elektra
URL:https://kyleket.com/event/elektra-orest/2024-11-19/
LOCATION:Staatsoper Hamburg\, Dammtorstraße 28\, Hamburg\, 20354\, Germany
ATTACH;FMTTYPE=image/jpeg:https://kyleket.com/wp-content/uploads/2024/09/jdi_57a4af7c6a874.jpg
END:VEVENT
BEGIN:VEVENT
DTSTART;TZID=America/Los_Angeles:20241115T193000
DTEND;TZID=America/Los_Angeles:20241115T213000
DTSTAMP:20260423T113225
CREATED:20240908T145240Z
LAST-MODIFIED:20240908T145306Z
UID:10000177-1731699000-1731706200@kyleket.com
SUMMARY:Elektra - Orest
DESCRIPTION:The war is over\, and tragedy takes its course: the mother and her lover murder the father upon his return. The daughter hides her brother\, keeping him safe. – Every day\, Elektra thinks of her murdered father\, plotting blood-stained celebrations of victory and waiting for the moment when her brother\, reared as an avenger\, returns. Under one roof with her father’s murderers\, thirst for blood and revenge collide with the future plans of her younger sister\, who longs for marriage and children\, a life in harmony and bliss. The mother is governed by another delusion: “It is not a word\, it is not pain\, it does not pinch me or strangle me\, … and yet it is so terrible that my soul wishes it had been hanged\, and every part of my body cries out for death.” Sacrifice is meant to bring relief. \nDirector and Set Design: Dmitri Tcherniakov\nAssistant Director: Thorsten Cölle\nCostumes: Elena Zaytseva\nLight: Gleb Filshtinsky\nVideo: Tieni Burkhalter\nDramaturgy: Tatiana Werestchagina \n \nJorge Coli · Richard Strauss – Elektra
URL:https://kyleket.com/event/elektra-orest/2024-11-15/
LOCATION:Staatsoper Hamburg\, Dammtorstraße 28\, Hamburg\, 20354\, Germany
ATTACH;FMTTYPE=image/jpeg:https://kyleket.com/wp-content/uploads/2024/09/jdi_57a4af7c6a874.jpg
END:VEVENT
BEGIN:VEVENT
DTSTART;TZID=America/Los_Angeles:20241112T193000
DTEND;TZID=America/Los_Angeles:20241112T213000
DTSTAMP:20260423T113225
CREATED:20240908T145240Z
LAST-MODIFIED:20240908T145306Z
UID:10000176-1731439800-1731447000@kyleket.com
SUMMARY:Elektra - Orest
DESCRIPTION:The war is over\, and tragedy takes its course: the mother and her lover murder the father upon his return. The daughter hides her brother\, keeping him safe. – Every day\, Elektra thinks of her murdered father\, plotting blood-stained celebrations of victory and waiting for the moment when her brother\, reared as an avenger\, returns. Under one roof with her father’s murderers\, thirst for blood and revenge collide with the future plans of her younger sister\, who longs for marriage and children\, a life in harmony and bliss. The mother is governed by another delusion: “It is not a word\, it is not pain\, it does not pinch me or strangle me\, … and yet it is so terrible that my soul wishes it had been hanged\, and every part of my body cries out for death.” Sacrifice is meant to bring relief. \nDirector and Set Design: Dmitri Tcherniakov\nAssistant Director: Thorsten Cölle\nCostumes: Elena Zaytseva\nLight: Gleb Filshtinsky\nVideo: Tieni Burkhalter\nDramaturgy: Tatiana Werestchagina \n \nJorge Coli · Richard Strauss – Elektra
URL:https://kyleket.com/event/elektra-orest/2024-11-12/
LOCATION:Staatsoper Hamburg\, Dammtorstraße 28\, Hamburg\, 20354\, Germany
ATTACH;FMTTYPE=image/jpeg:https://kyleket.com/wp-content/uploads/2024/09/jdi_57a4af7c6a874.jpg
END:VEVENT
BEGIN:VEVENT
DTSTART;TZID=America/Los_Angeles:20241110T180000
DTEND;TZID=America/Los_Angeles:20241110T200000
DTSTAMP:20260423T113225
CREATED:20240908T145240Z
LAST-MODIFIED:20240908T145306Z
UID:10000175-1731261600-1731268800@kyleket.com
SUMMARY:Elektra - Orest
DESCRIPTION:The war is over\, and tragedy takes its course: the mother and her lover murder the father upon his return. The daughter hides her brother\, keeping him safe. – Every day\, Elektra thinks of her murdered father\, plotting blood-stained celebrations of victory and waiting for the moment when her brother\, reared as an avenger\, returns. Under one roof with her father’s murderers\, thirst for blood and revenge collide with the future plans of her younger sister\, who longs for marriage and children\, a life in harmony and bliss. The mother is governed by another delusion: “It is not a word\, it is not pain\, it does not pinch me or strangle me\, … and yet it is so terrible that my soul wishes it had been hanged\, and every part of my body cries out for death.” Sacrifice is meant to bring relief. \nDirector and Set Design: Dmitri Tcherniakov\nAssistant Director: Thorsten Cölle\nCostumes: Elena Zaytseva\nLight: Gleb Filshtinsky\nVideo: Tieni Burkhalter\nDramaturgy: Tatiana Werestchagina \n \nJorge Coli · Richard Strauss – Elektra
URL:https://kyleket.com/event/elektra-orest/2024-11-10/
LOCATION:Staatsoper Hamburg\, Dammtorstraße 28\, Hamburg\, 20354\, Germany
ATTACH;FMTTYPE=image/jpeg:https://kyleket.com/wp-content/uploads/2024/09/jdi_57a4af7c6a874.jpg
END:VEVENT
END:VCALENDAR