BEGIN:VCALENDAR
VERSION:2.0
PRODID:-//Kyle Ketelsen - ECPv6.10.2//NONSGML v1.0//EN
CALSCALE:GREGORIAN
METHOD:PUBLISH
X-WR-CALNAME:Kyle Ketelsen
X-ORIGINAL-URL:https://kyleket.com
X-WR-CALDESC:Events for Kyle Ketelsen
REFRESH-INTERVAL;VALUE=DURATION:PT1H
X-Robots-Tag:noindex
X-PUBLISHED-TTL:PT1H
BEGIN:VTIMEZONE
TZID:America/New_York
BEGIN:DAYLIGHT
TZOFFSETFROM:-0500
TZOFFSETTO:-0400
TZNAME:EDT
DTSTART:20230312T070000
END:DAYLIGHT
BEGIN:STANDARD
TZOFFSETFROM:-0400
TZOFFSETTO:-0500
TZNAME:EST
DTSTART:20231105T060000
END:STANDARD
BEGIN:DAYLIGHT
TZOFFSETFROM:-0500
TZOFFSETTO:-0400
TZNAME:EDT
DTSTART:20240310T070000
END:DAYLIGHT
BEGIN:STANDARD
TZOFFSETFROM:-0400
TZOFFSETTO:-0500
TZNAME:EST
DTSTART:20241103T060000
END:STANDARD
END:VTIMEZONE
BEGIN:VEVENT
DTSTART;TZID=America/New_York:20240505T150000
DTEND;TZID=America/New_York:20240505T180000
DTSTAMP:20260423T124858
CREATED:20230330T150221Z
LAST-MODIFIED:20230330T150241Z
UID:10000117-1714921200-1714932000@kyleket.com
SUMMARY:The Hours - Richard - Metropolitan Opera
DESCRIPTION:Pulitzer Prize–winning composer Kevin Puts’s hit new opera\, which played to sold-out audiences during its world-premiere production last season\, triumphantly returns. The original trio of legendary divas—sopranos Renée Fleming and Kelli O’Hara and mezzo-soprano Joyce DiDonato—reprise their celebrated portrayals of three women from different eras whose lives are connected through Virginia Woolf’s novel Mrs. Dalloway. Bass-baritone Kyle Ketelsen also returns as the dying author Richard\, and Kensho Watanabe conducts Phelim McDermott’s gripping staging of this heart-wrenching drama\, adapted from Michael Cunningham’s acclaimed novel and the Oscar-winning film it inspired.
URL:https://kyleket.com/event/the-hours-richard-metropolitan-opera/2024-05-05/
LOCATION:Lincoln Center for the Performing Arts: Metropolitan Opera House\, Lincoln Center Plaza\, New York\, NY\, NY 10023\, United States
ATTACH;FMTTYPE=image/jpeg:https://kyleket.com/wp-content/uploads/2023/02/hours_-pb-1-1.jpg
END:VEVENT
BEGIN:VEVENT
DTSTART;TZID=America/New_York:20240127T130000
DTEND;TZID=America/New_York:20240127T163000
DTSTAMP:20260423T124858
CREATED:20230330T152942Z
LAST-MODIFIED:20230330T152946Z
UID:10000133-1706360400-1706373000@kyleket.com
SUMMARY:Carmen - Escamillo - LIVE IN HD - Metropolitan Opera
DESCRIPTION:On January 27\, acclaimed English director Carrie Cracknell brings in a vital new production of one of opera’s most enduringly popular and powerful works to cinemas\, reinvigorating the classic story of deadly passion with a staging that moves the action to the modern day\, amid a band of human traffickers. Dazzling young mezzo-soprano Aigul Akhmetshina leads a powerhouse quartet of stars in the touchstone role of the irresistible femme fatale\, alongside tenor Piotr Beczała as Carmen’s overmatched lover Don José and soprano Angel Blue as the devoted Micaëla. Bass-baritone Kyle Ketelsen is the swaggering Escamillo\, and Daniele Rustioni conducts Bizet’s heart-pounding score. This live cinema transmission is part of the Met’s award-winning Live in HD series\, bringing opera to movie theaters across the globe. \nEnglish StreamText captioning is available for the Met’s transmission of Carmen here. A transcript of the transmission will also be available to view after the live performance. \nBuy tickets for Carmen live in the opera house here. \n 
URL:https://kyleket.com/event/carmen-escamillo-metropolitan-opera-2/
LOCATION:Lincoln Center for the Performing Arts: Metropolitan Opera House\, Lincoln Center Plaza\, New York\, NY\, NY 10023\, United States
ATTACH;FMTTYPE=image/jpeg:https://kyleket.com/wp-content/uploads/2023/03/Met-Carmen.jpeg
END:VEVENT
BEGIN:VEVENT
DTSTART;TZID=America/New_York:20240123T193000
DTEND;TZID=America/New_York:20240123T230000
DTSTAMP:20260423T124858
CREATED:20230330T152249Z
LAST-MODIFIED:20230330T152303Z
UID:10000132-1706038200-1706050800@kyleket.com
SUMMARY:Carmen - Escamillo - Metropolitan Opera
DESCRIPTION:The Met celebrates the New Year with a vital new production of one of opera’s most enduringly popular and powerful works. Acclaimed English director Carrie Cracknell makes her Met debut\, reinvigorating the classic story of deadly passion with a staging that moves the action to the modern day. Dazzling young mezzo-soprano Aigul Akhmetshina leads a powerhouse quartet of stars in the touchstone role of the irresistible femme fatale\, alongside tenor Piotr Beczała as Carmen’s overmatched lover Don José\, soprano Angel Blue as the devoted Micaëla\, and bass-baritone Kyle Ketelsen as the swaggering Escamillo. Daniele Rustioni conducts Bizet’s heart-pounding score.
URL:https://kyleket.com/event/carmen-escamillo-metropolitan-opera/2024-01-23/
LOCATION:Lincoln Center for the Performing Arts: Metropolitan Opera House\, Lincoln Center Plaza\, New York\, NY\, NY 10023\, United States
ATTACH;FMTTYPE=image/jpeg:https://kyleket.com/wp-content/uploads/2023/03/Met-Carmen.jpeg
END:VEVENT
BEGIN:VEVENT
DTSTART;TZID=America/New_York:20240119T193000
DTEND;TZID=America/New_York:20240119T230000
DTSTAMP:20260423T124858
CREATED:20230330T152249Z
LAST-MODIFIED:20230330T152303Z
UID:10000131-1705692600-1705705200@kyleket.com
SUMMARY:Carmen - Escamillo - Metropolitan Opera
DESCRIPTION:The Met celebrates the New Year with a vital new production of one of opera’s most enduringly popular and powerful works. Acclaimed English director Carrie Cracknell makes her Met debut\, reinvigorating the classic story of deadly passion with a staging that moves the action to the modern day. Dazzling young mezzo-soprano Aigul Akhmetshina leads a powerhouse quartet of stars in the touchstone role of the irresistible femme fatale\, alongside tenor Piotr Beczała as Carmen’s overmatched lover Don José\, soprano Angel Blue as the devoted Micaëla\, and bass-baritone Kyle Ketelsen as the swaggering Escamillo. Daniele Rustioni conducts Bizet’s heart-pounding score.
URL:https://kyleket.com/event/carmen-escamillo-metropolitan-opera/2024-01-19/
LOCATION:Lincoln Center for the Performing Arts: Metropolitan Opera House\, Lincoln Center Plaza\, New York\, NY\, NY 10023\, United States
ATTACH;FMTTYPE=image/jpeg:https://kyleket.com/wp-content/uploads/2023/03/Met-Carmen.jpeg
END:VEVENT
BEGIN:VEVENT
DTSTART;TZID=America/New_York:20240116T193000
DTEND;TZID=America/New_York:20240116T230000
DTSTAMP:20260423T124858
CREATED:20230330T152249Z
LAST-MODIFIED:20230330T152303Z
UID:10000130-1705433400-1705446000@kyleket.com
SUMMARY:Carmen - Escamillo - Metropolitan Opera
DESCRIPTION:The Met celebrates the New Year with a vital new production of one of opera’s most enduringly popular and powerful works. Acclaimed English director Carrie Cracknell makes her Met debut\, reinvigorating the classic story of deadly passion with a staging that moves the action to the modern day. Dazzling young mezzo-soprano Aigul Akhmetshina leads a powerhouse quartet of stars in the touchstone role of the irresistible femme fatale\, alongside tenor Piotr Beczała as Carmen’s overmatched lover Don José\, soprano Angel Blue as the devoted Micaëla\, and bass-baritone Kyle Ketelsen as the swaggering Escamillo. Daniele Rustioni conducts Bizet’s heart-pounding score.
URL:https://kyleket.com/event/carmen-escamillo-metropolitan-opera/2024-01-16/
LOCATION:Lincoln Center for the Performing Arts: Metropolitan Opera House\, Lincoln Center Plaza\, New York\, NY\, NY 10023\, United States
ATTACH;FMTTYPE=image/jpeg:https://kyleket.com/wp-content/uploads/2023/03/Met-Carmen.jpeg
END:VEVENT
BEGIN:VEVENT
DTSTART;TZID=America/New_York:20240112T190000
DTEND;TZID=America/New_York:20240112T223000
DTSTAMP:20260423T124858
CREATED:20230330T152249Z
LAST-MODIFIED:20230330T152303Z
UID:10000129-1705086000-1705098600@kyleket.com
SUMMARY:Carmen - Escamillo - Metropolitan Opera
DESCRIPTION:The Met celebrates the New Year with a vital new production of one of opera’s most enduringly popular and powerful works. Acclaimed English director Carrie Cracknell makes her Met debut\, reinvigorating the classic story of deadly passion with a staging that moves the action to the modern day. Dazzling young mezzo-soprano Aigul Akhmetshina leads a powerhouse quartet of stars in the touchstone role of the irresistible femme fatale\, alongside tenor Piotr Beczała as Carmen’s overmatched lover Don José\, soprano Angel Blue as the devoted Micaëla\, and bass-baritone Kyle Ketelsen as the swaggering Escamillo. Daniele Rustioni conducts Bizet’s heart-pounding score.
URL:https://kyleket.com/event/carmen-escamillo-metropolitan-opera/2024-01-12/
LOCATION:Lincoln Center for the Performing Arts: Metropolitan Opera House\, Lincoln Center Plaza\, New York\, NY\, NY 10023\, United States
ATTACH;FMTTYPE=image/jpeg:https://kyleket.com/wp-content/uploads/2023/03/Met-Carmen.jpeg
END:VEVENT
BEGIN:VEVENT
DTSTART;TZID=America/New_York:20240109T190000
DTEND;TZID=America/New_York:20240109T223000
DTSTAMP:20260423T124858
CREATED:20230330T152249Z
LAST-MODIFIED:20230330T152303Z
UID:10000128-1704826800-1704839400@kyleket.com
SUMMARY:Carmen - Escamillo - Metropolitan Opera
DESCRIPTION:The Met celebrates the New Year with a vital new production of one of opera’s most enduringly popular and powerful works. Acclaimed English director Carrie Cracknell makes her Met debut\, reinvigorating the classic story of deadly passion with a staging that moves the action to the modern day. Dazzling young mezzo-soprano Aigul Akhmetshina leads a powerhouse quartet of stars in the touchstone role of the irresistible femme fatale\, alongside tenor Piotr Beczała as Carmen’s overmatched lover Don José\, soprano Angel Blue as the devoted Micaëla\, and bass-baritone Kyle Ketelsen as the swaggering Escamillo. Daniele Rustioni conducts Bizet’s heart-pounding score.
URL:https://kyleket.com/event/carmen-escamillo-metropolitan-opera/2024-01-09/
LOCATION:Lincoln Center for the Performing Arts: Metropolitan Opera House\, Lincoln Center Plaza\, New York\, NY\, NY 10023\, United States
ATTACH;FMTTYPE=image/jpeg:https://kyleket.com/wp-content/uploads/2023/03/Met-Carmen.jpeg
END:VEVENT
BEGIN:VEVENT
DTSTART;TZID=America/New_York:20240105T193000
DTEND;TZID=America/New_York:20240105T230000
DTSTAMP:20260423T124858
CREATED:20230330T152249Z
LAST-MODIFIED:20230330T152303Z
UID:10000127-1704483000-1704495600@kyleket.com
SUMMARY:Carmen - Escamillo - Metropolitan Opera
DESCRIPTION:The Met celebrates the New Year with a vital new production of one of opera’s most enduringly popular and powerful works. Acclaimed English director Carrie Cracknell makes her Met debut\, reinvigorating the classic story of deadly passion with a staging that moves the action to the modern day. Dazzling young mezzo-soprano Aigul Akhmetshina leads a powerhouse quartet of stars in the touchstone role of the irresistible femme fatale\, alongside tenor Piotr Beczała as Carmen’s overmatched lover Don José\, soprano Angel Blue as the devoted Micaëla\, and bass-baritone Kyle Ketelsen as the swaggering Escamillo. Daniele Rustioni conducts Bizet’s heart-pounding score.
URL:https://kyleket.com/event/carmen-escamillo-metropolitan-opera/2024-01-05/
LOCATION:Lincoln Center for the Performing Arts: Metropolitan Opera House\, Lincoln Center Plaza\, New York\, NY\, NY 10023\, United States
ATTACH;FMTTYPE=image/jpeg:https://kyleket.com/wp-content/uploads/2023/03/Met-Carmen.jpeg
END:VEVENT
BEGIN:VEVENT
DTSTART;TZID=America/New_York:20240103T193000
DTEND;TZID=America/New_York:20240103T230000
DTSTAMP:20260423T124858
CREATED:20230330T152249Z
LAST-MODIFIED:20230330T152303Z
UID:10000126-1704310200-1704322800@kyleket.com
SUMMARY:Carmen - Escamillo - Metropolitan Opera
DESCRIPTION:The Met celebrates the New Year with a vital new production of one of opera’s most enduringly popular and powerful works. Acclaimed English director Carrie Cracknell makes her Met debut\, reinvigorating the classic story of deadly passion with a staging that moves the action to the modern day. Dazzling young mezzo-soprano Aigul Akhmetshina leads a powerhouse quartet of stars in the touchstone role of the irresistible femme fatale\, alongside tenor Piotr Beczała as Carmen’s overmatched lover Don José\, soprano Angel Blue as the devoted Micaëla\, and bass-baritone Kyle Ketelsen as the swaggering Escamillo. Daniele Rustioni conducts Bizet’s heart-pounding score.
URL:https://kyleket.com/event/carmen-escamillo-metropolitan-opera/2024-01-03/
LOCATION:Lincoln Center for the Performing Arts: Metropolitan Opera House\, Lincoln Center Plaza\, New York\, NY\, NY 10023\, United States
ATTACH;FMTTYPE=image/jpeg:https://kyleket.com/wp-content/uploads/2023/03/Met-Carmen.jpeg
END:VEVENT
BEGIN:VEVENT
DTSTART;TZID=America/New_York:20231231T183000
DTEND;TZID=America/New_York:20231231T220000
DTSTAMP:20260423T124858
CREATED:20230330T152249Z
LAST-MODIFIED:20230330T152303Z
UID:10000125-1704047400-1704060000@kyleket.com
SUMMARY:Carmen - Escamillo - Metropolitan Opera
DESCRIPTION:The Met celebrates the New Year with a vital new production of one of opera’s most enduringly popular and powerful works. Acclaimed English director Carrie Cracknell makes her Met debut\, reinvigorating the classic story of deadly passion with a staging that moves the action to the modern day. Dazzling young mezzo-soprano Aigul Akhmetshina leads a powerhouse quartet of stars in the touchstone role of the irresistible femme fatale\, alongside tenor Piotr Beczała as Carmen’s overmatched lover Don José\, soprano Angel Blue as the devoted Micaëla\, and bass-baritone Kyle Ketelsen as the swaggering Escamillo. Daniele Rustioni conducts Bizet’s heart-pounding score.
URL:https://kyleket.com/event/carmen-escamillo-metropolitan-opera/2023-12-31/
LOCATION:Lincoln Center for the Performing Arts: Metropolitan Opera House\, Lincoln Center Plaza\, New York\, NY\, NY 10023\, United States
ATTACH;FMTTYPE=image/jpeg:https://kyleket.com/wp-content/uploads/2023/03/Met-Carmen.jpeg
END:VEVENT
END:VCALENDAR