BEGIN:VCALENDAR
VERSION:2.0
PRODID:-//Kyle Ketelsen - ECPv6.10.2//NONSGML v1.0//EN
CALSCALE:GREGORIAN
METHOD:PUBLISH
X-ORIGINAL-URL:https://kyleket.com
X-WR-CALDESC:Events for Kyle Ketelsen
REFRESH-INTERVAL;VALUE=DURATION:PT1H
X-Robots-Tag:noindex
X-PUBLISHED-TTL:PT1H
BEGIN:VTIMEZONE
TZID:America/Los_Angeles
BEGIN:DAYLIGHT
TZOFFSETFROM:-0800
TZOFFSETTO:-0700
TZNAME:PDT
DTSTART:20250309T100000
END:DAYLIGHT
BEGIN:STANDARD
TZOFFSETFROM:-0700
TZOFFSETTO:-0800
TZNAME:PST
DTSTART:20251102T090000
END:STANDARD
END:VTIMEZONE
BEGIN:VTIMEZONE
TZID:America/Chicago
BEGIN:DAYLIGHT
TZOFFSETFROM:-0600
TZOFFSETTO:-0500
TZNAME:CDT
DTSTART:20240310T080000
END:DAYLIGHT
BEGIN:STANDARD
TZOFFSETFROM:-0500
TZOFFSETTO:-0600
TZNAME:CST
DTSTART:20241103T070000
END:STANDARD
END:VTIMEZONE
BEGIN:VEVENT
DTSTART;TZID=America/Los_Angeles:20250411T190000
DTEND;TZID=America/Los_Angeles:20250411T213000
DTSTAMP:20260423T132006
CREATED:20240420T220757Z
LAST-MODIFIED:20240420T220907Z
UID:10000169-1744398000-1744407000@kyleket.com
SUMMARY:The Listeners - Howard - Lyric Opera of Chicago
DESCRIPTION:Lyric Opera of Chicago presents The Listeners\, expected to be one of the most significant operatic events of the 2024/25 Season. Missy Mazzoli and Royce Vavrek\, the renowned composer/librettist team\, tell the story of Claire\, who is driven nearly mad by an unending\, low-frequency hum that she hears. In desperation\, she joins a community organization\, “The Listeners\,” formed to discover the origin of the noise and destroy it. The group becomes frighteningly cult-like\, ultimately leading to catastrophic consequences. Lyric’s vocally and dramatically brilliant cast will be conducted by Music Director Enrique Mazzola and directed by one of the most gifted theater artists of her generation\, Lileana Blain-Cruz.
URL:https://kyleket.com/event/the-listeners-howard-lyric-opera-of-chicago/2025-04-11/
LOCATION:Civic Opera House\, 20 N Upper Wacker Dr STE 400\, Chicago\, IL\, IL 60606\, United States
ATTACH;FMTTYPE=image/jpeg:https://kyleket.com/wp-content/uploads/2024/04/listeners-web-header-1600x10152-1.jpg
END:VEVENT
BEGIN:VEVENT
DTSTART;TZID=America/Los_Angeles:20250408T190000
DTEND;TZID=America/Los_Angeles:20250408T213000
DTSTAMP:20260423T132006
CREATED:20240420T220757Z
LAST-MODIFIED:20240420T220907Z
UID:10000168-1744138800-1744147800@kyleket.com
SUMMARY:The Listeners - Howard - Lyric Opera of Chicago
DESCRIPTION:Lyric Opera of Chicago presents The Listeners\, expected to be one of the most significant operatic events of the 2024/25 Season. Missy Mazzoli and Royce Vavrek\, the renowned composer/librettist team\, tell the story of Claire\, who is driven nearly mad by an unending\, low-frequency hum that she hears. In desperation\, she joins a community organization\, “The Listeners\,” formed to discover the origin of the noise and destroy it. The group becomes frighteningly cult-like\, ultimately leading to catastrophic consequences. Lyric’s vocally and dramatically brilliant cast will be conducted by Music Director Enrique Mazzola and directed by one of the most gifted theater artists of her generation\, Lileana Blain-Cruz.
URL:https://kyleket.com/event/the-listeners-howard-lyric-opera-of-chicago/2025-04-08/
LOCATION:Civic Opera House\, 20 N Upper Wacker Dr STE 400\, Chicago\, IL\, IL 60606\, United States
ATTACH;FMTTYPE=image/jpeg:https://kyleket.com/wp-content/uploads/2024/04/listeners-web-header-1600x10152-1.jpg
END:VEVENT
BEGIN:VEVENT
DTSTART;TZID=America/Los_Angeles:20250405T193000
DTEND;TZID=America/Los_Angeles:20250405T220000
DTSTAMP:20260423T132006
CREATED:20240420T220757Z
LAST-MODIFIED:20240420T220907Z
UID:10000167-1743881400-1743890400@kyleket.com
SUMMARY:The Listeners - Howard - Lyric Opera of Chicago
DESCRIPTION:Lyric Opera of Chicago presents The Listeners\, expected to be one of the most significant operatic events of the 2024/25 Season. Missy Mazzoli and Royce Vavrek\, the renowned composer/librettist team\, tell the story of Claire\, who is driven nearly mad by an unending\, low-frequency hum that she hears. In desperation\, she joins a community organization\, “The Listeners\,” formed to discover the origin of the noise and destroy it. The group becomes frighteningly cult-like\, ultimately leading to catastrophic consequences. Lyric’s vocally and dramatically brilliant cast will be conducted by Music Director Enrique Mazzola and directed by one of the most gifted theater artists of her generation\, Lileana Blain-Cruz.
URL:https://kyleket.com/event/the-listeners-howard-lyric-opera-of-chicago/2025-04-05/
LOCATION:Civic Opera House\, 20 N Upper Wacker Dr STE 400\, Chicago\, IL\, IL 60606\, United States
ATTACH;FMTTYPE=image/jpeg:https://kyleket.com/wp-content/uploads/2024/04/listeners-web-header-1600x10152-1.jpg
END:VEVENT
BEGIN:VEVENT
DTSTART;TZID=America/Los_Angeles:20250402T190000
DTEND;TZID=America/Los_Angeles:20250402T213000
DTSTAMP:20260423T132006
CREATED:20240420T220757Z
LAST-MODIFIED:20240420T220907Z
UID:10000166-1743620400-1743629400@kyleket.com
SUMMARY:The Listeners - Howard - Lyric Opera of Chicago
DESCRIPTION:Lyric Opera of Chicago presents The Listeners\, expected to be one of the most significant operatic events of the 2024/25 Season. Missy Mazzoli and Royce Vavrek\, the renowned composer/librettist team\, tell the story of Claire\, who is driven nearly mad by an unending\, low-frequency hum that she hears. In desperation\, she joins a community organization\, “The Listeners\,” formed to discover the origin of the noise and destroy it. The group becomes frighteningly cult-like\, ultimately leading to catastrophic consequences. Lyric’s vocally and dramatically brilliant cast will be conducted by Music Director Enrique Mazzola and directed by one of the most gifted theater artists of her generation\, Lileana Blain-Cruz.
URL:https://kyleket.com/event/the-listeners-howard-lyric-opera-of-chicago/2025-04-02/
LOCATION:Civic Opera House\, 20 N Upper Wacker Dr STE 400\, Chicago\, IL\, IL 60606\, United States
ATTACH;FMTTYPE=image/jpeg:https://kyleket.com/wp-content/uploads/2024/04/listeners-web-header-1600x10152-1.jpg
END:VEVENT
BEGIN:VEVENT
DTSTART;TZID=America/Los_Angeles:20250330T140000
DTEND;TZID=America/Los_Angeles:20250330T163000
DTSTAMP:20260423T132006
CREATED:20240420T220757Z
LAST-MODIFIED:20240420T220907Z
UID:10000165-1743343200-1743352200@kyleket.com
SUMMARY:The Listeners - Howard - Lyric Opera of Chicago
DESCRIPTION:Lyric Opera of Chicago presents The Listeners\, expected to be one of the most significant operatic events of the 2024/25 Season. Missy Mazzoli and Royce Vavrek\, the renowned composer/librettist team\, tell the story of Claire\, who is driven nearly mad by an unending\, low-frequency hum that she hears. In desperation\, she joins a community organization\, “The Listeners\,” formed to discover the origin of the noise and destroy it. The group becomes frighteningly cult-like\, ultimately leading to catastrophic consequences. Lyric’s vocally and dramatically brilliant cast will be conducted by Music Director Enrique Mazzola and directed by one of the most gifted theater artists of her generation\, Lileana Blain-Cruz.
URL:https://kyleket.com/event/the-listeners-howard-lyric-opera-of-chicago/2025-03-30/
LOCATION:Civic Opera House\, 20 N Upper Wacker Dr STE 400\, Chicago\, IL\, IL 60606\, United States
ATTACH;FMTTYPE=image/jpeg:https://kyleket.com/wp-content/uploads/2024/04/listeners-web-header-1600x10152-1.jpg
END:VEVENT
BEGIN:VEVENT
DTSTART;TZID=America/Chicago:20240324T140000
DTEND;TZID=America/Chicago:20240324T163000
DTSTAMP:20260423T132006
CREATED:20230820T102532Z
LAST-MODIFIED:20240318T234357Z
UID:10000141-1711288800-1711297800@kyleket.com
SUMMARY:Mozart Requiem - Lyric Opera of Chicago
DESCRIPTION:Mozart Requiem – Chicago Lyric Opera \n \n  \n  \nLyric Opera of Chicago invites you to experience Mozart’s Requiem. Legend has it that Mozart believed he was writing the Requiem for his own funeral. Other composers completed it after his death\, but — miraculously — this is not only a totally unified work musically\, but one of the greatest choral pieces ever written. It offers a sublime beauty and dignity that leaves audiences profoundly moved and memorably uplifted. Under Music Director Enrique Mazzola\, these concerts present a unique opportunity to celebrate the extraordinary Lyric Opera Orchestra and Chorus\, and will also feature additional Mozart repertoire. \nLanguage: Latin\nRunning Time: 2 hours and 15 minutes\, including 1 intermission\nLocation: Lyric Opera House \n  \n \nMozart · Requiem – III. Sequentia – c. Rex tremendae – Mozart – Binaural 3D Sound – Music Therapy
URL:https://kyleket.com/event/mozart-requiem-lyric-opera-of-chicago/2024-03-24/
LOCATION:Civic Opera House\, 20 N Upper Wacker Dr STE 400\, Chicago\, IL\, IL 60606\, United States
ATTACH;FMTTYPE=image/jpeg:https://kyleket.com/wp-content/uploads/2023/08/Lyric-Requiem.jpg
END:VEVENT
BEGIN:VEVENT
DTSTART;TZID=America/Chicago:20240322T190000
DTEND;TZID=America/Chicago:20240322T213000
DTSTAMP:20260423T132006
CREATED:20230820T102532Z
LAST-MODIFIED:20240318T234357Z
UID:10000140-1711134000-1711143000@kyleket.com
SUMMARY:Mozart Requiem - Lyric Opera of Chicago
DESCRIPTION:Mozart Requiem – Chicago Lyric Opera \n \n  \n  \nLyric Opera of Chicago invites you to experience Mozart’s Requiem. Legend has it that Mozart believed he was writing the Requiem for his own funeral. Other composers completed it after his death\, but — miraculously — this is not only a totally unified work musically\, but one of the greatest choral pieces ever written. It offers a sublime beauty and dignity that leaves audiences profoundly moved and memorably uplifted. Under Music Director Enrique Mazzola\, these concerts present a unique opportunity to celebrate the extraordinary Lyric Opera Orchestra and Chorus\, and will also feature additional Mozart repertoire. \nLanguage: Latin\nRunning Time: 2 hours and 15 minutes\, including 1 intermission\nLocation: Lyric Opera House \n  \n \nMozart · Requiem – III. Sequentia – c. Rex tremendae – Mozart – Binaural 3D Sound – Music Therapy
URL:https://kyleket.com/event/mozart-requiem-lyric-opera-of-chicago/2024-03-22/
LOCATION:Civic Opera House\, 20 N Upper Wacker Dr STE 400\, Chicago\, IL\, IL 60606\, United States
ATTACH;FMTTYPE=image/jpeg:https://kyleket.com/wp-content/uploads/2023/08/Lyric-Requiem.jpg
END:VEVENT
END:VCALENDAR