BEGIN:VCALENDAR
VERSION:2.0
PRODID:-//Kyle Ketelsen - ECPv6.10.2//NONSGML v1.0//EN
CALSCALE:GREGORIAN
METHOD:PUBLISH
X-WR-CALNAME:Kyle Ketelsen
X-ORIGINAL-URL:https://kyleket.com
X-WR-CALDESC:Events for Kyle Ketelsen
REFRESH-INTERVAL;VALUE=DURATION:PT1H
X-Robots-Tag:noindex
X-PUBLISHED-TTL:PT1H
BEGIN:VTIMEZONE
TZID:America/Los_Angeles
BEGIN:DAYLIGHT
TZOFFSETFROM:-0800
TZOFFSETTO:-0700
TZNAME:PDT
DTSTART:20230312T100000
END:DAYLIGHT
BEGIN:STANDARD
TZOFFSETFROM:-0700
TZOFFSETTO:-0800
TZNAME:PST
DTSTART:20231105T090000
END:STANDARD
END:VTIMEZONE
BEGIN:VEVENT
DTSTART;TZID=America/Los_Angeles:20230416T140000
DTEND;TZID=America/Los_Angeles:20230416T173000
DTSTAMP:20260423T200500
CREATED:20230204T133704Z
LAST-MODIFIED:20230325T192441Z
UID:10000017-1681653600-1681666200@kyleket.com
SUMMARY:Pelléas et Mélisande - L.A. Opera
DESCRIPTION:Lost in the forest\, a prince encounters an ethereal beauty with a mysterious past (and lush locks that would make Rapunzel envious). But after she’s brought home to his family\, she begins to grow increasingly close to his handsome younger brother. \nDebussy’s sensual\, exquisitely nuanced score casts a hypnotic spell\, capturing an enigmatic dream world where forbidden love blossoms. \nConducted by James Conlon\, this fascinating lyric masterpiece stars two riveting young performers\, soprano Sydney Mancasola and baritone Will Liverman\, as the doomed lovers\, and Kyle Ketelsen as the jealous prince. The magnificent Susan Graham makes her role debut as Geneviève\, mother of the two rival brothers\, and the legendary bass Ferruccio Furlanetto returns as King Arkel\, the family patriarch unable to grasp the tragedy unfolding before him. \n\n“A score of all-but-unbearable tenderness and beauty…McVicar and his lighting designer Paule Constable respond with moments of visual wonder to match Maeterlinck and Debussy’s imagery of light and water.” \n\nRichard Bratby – The Spectator (UK)\n\n\n\nListen to this haunting clip from Act 1 of Pelléas et Mélisande:\n \nSydney Symphony Orchestra · DEBUSSY Pelléas et Mélisande; Act 1
URL:https://kyleket.com/event/pelleas-et-melisande/2023-04-16/
LOCATION:Dorothy Chandler Pavilion\, 135 N Grand Ave\, Los Angeles\, CA\, 90012\, United States
ATTACH;FMTTYPE=image/jpeg:https://kyleket.com/wp-content/uploads/2023/02/maxresdefault.jpg
END:VEVENT
BEGIN:VEVENT
DTSTART;TZID=America/Los_Angeles:20230413T193000
DTEND;TZID=America/Los_Angeles:20230413T230000
DTSTAMP:20260423T200500
CREATED:20230204T133704Z
LAST-MODIFIED:20230325T192441Z
UID:10000016-1681414200-1681426800@kyleket.com
SUMMARY:Pelléas et Mélisande - L.A. Opera
DESCRIPTION:Lost in the forest\, a prince encounters an ethereal beauty with a mysterious past (and lush locks that would make Rapunzel envious). But after she’s brought home to his family\, she begins to grow increasingly close to his handsome younger brother. \nDebussy’s sensual\, exquisitely nuanced score casts a hypnotic spell\, capturing an enigmatic dream world where forbidden love blossoms. \nConducted by James Conlon\, this fascinating lyric masterpiece stars two riveting young performers\, soprano Sydney Mancasola and baritone Will Liverman\, as the doomed lovers\, and Kyle Ketelsen as the jealous prince. The magnificent Susan Graham makes her role debut as Geneviève\, mother of the two rival brothers\, and the legendary bass Ferruccio Furlanetto returns as King Arkel\, the family patriarch unable to grasp the tragedy unfolding before him. \n\n“A score of all-but-unbearable tenderness and beauty…McVicar and his lighting designer Paule Constable respond with moments of visual wonder to match Maeterlinck and Debussy’s imagery of light and water.” \n\nRichard Bratby – The Spectator (UK)\n\n\n\nListen to this haunting clip from Act 1 of Pelléas et Mélisande:\n \nSydney Symphony Orchestra · DEBUSSY Pelléas et Mélisande; Act 1
URL:https://kyleket.com/event/pelleas-et-melisande/2023-04-13/
LOCATION:Dorothy Chandler Pavilion\, 135 N Grand Ave\, Los Angeles\, CA\, 90012\, United States
ATTACH;FMTTYPE=image/jpeg:https://kyleket.com/wp-content/uploads/2023/02/maxresdefault.jpg
END:VEVENT
BEGIN:VEVENT
DTSTART;TZID=America/Los_Angeles:20230408T193000
DTEND;TZID=America/Los_Angeles:20230408T230000
DTSTAMP:20260423T200500
CREATED:20230204T133704Z
LAST-MODIFIED:20230325T192441Z
UID:10000015-1680982200-1680994800@kyleket.com
SUMMARY:Pelléas et Mélisande - L.A. Opera
DESCRIPTION:Lost in the forest\, a prince encounters an ethereal beauty with a mysterious past (and lush locks that would make Rapunzel envious). But after she’s brought home to his family\, she begins to grow increasingly close to his handsome younger brother. \nDebussy’s sensual\, exquisitely nuanced score casts a hypnotic spell\, capturing an enigmatic dream world where forbidden love blossoms. \nConducted by James Conlon\, this fascinating lyric masterpiece stars two riveting young performers\, soprano Sydney Mancasola and baritone Will Liverman\, as the doomed lovers\, and Kyle Ketelsen as the jealous prince. The magnificent Susan Graham makes her role debut as Geneviève\, mother of the two rival brothers\, and the legendary bass Ferruccio Furlanetto returns as King Arkel\, the family patriarch unable to grasp the tragedy unfolding before him. \n\n“A score of all-but-unbearable tenderness and beauty…McVicar and his lighting designer Paule Constable respond with moments of visual wonder to match Maeterlinck and Debussy’s imagery of light and water.” \n\nRichard Bratby – The Spectator (UK)\n\n\n\nListen to this haunting clip from Act 1 of Pelléas et Mélisande:\n \nSydney Symphony Orchestra · DEBUSSY Pelléas et Mélisande; Act 1
URL:https://kyleket.com/event/pelleas-et-melisande/2023-04-08/
LOCATION:Dorothy Chandler Pavilion\, 135 N Grand Ave\, Los Angeles\, CA\, 90012\, United States
ATTACH;FMTTYPE=image/jpeg:https://kyleket.com/wp-content/uploads/2023/02/maxresdefault.jpg
END:VEVENT
BEGIN:VEVENT
DTSTART;TZID=America/Los_Angeles:20230405T193000
DTEND;TZID=America/Los_Angeles:20230405T230000
DTSTAMP:20260423T200500
CREATED:20230204T133704Z
LAST-MODIFIED:20230325T192441Z
UID:10000014-1680723000-1680735600@kyleket.com
SUMMARY:Pelléas et Mélisande - L.A. Opera
DESCRIPTION:Lost in the forest\, a prince encounters an ethereal beauty with a mysterious past (and lush locks that would make Rapunzel envious). But after she’s brought home to his family\, she begins to grow increasingly close to his handsome younger brother. \nDebussy’s sensual\, exquisitely nuanced score casts a hypnotic spell\, capturing an enigmatic dream world where forbidden love blossoms. \nConducted by James Conlon\, this fascinating lyric masterpiece stars two riveting young performers\, soprano Sydney Mancasola and baritone Will Liverman\, as the doomed lovers\, and Kyle Ketelsen as the jealous prince. The magnificent Susan Graham makes her role debut as Geneviève\, mother of the two rival brothers\, and the legendary bass Ferruccio Furlanetto returns as King Arkel\, the family patriarch unable to grasp the tragedy unfolding before him. \n\n“A score of all-but-unbearable tenderness and beauty…McVicar and his lighting designer Paule Constable respond with moments of visual wonder to match Maeterlinck and Debussy’s imagery of light and water.” \n\nRichard Bratby – The Spectator (UK)\n\n\n\nListen to this haunting clip from Act 1 of Pelléas et Mélisande:\n \nSydney Symphony Orchestra · DEBUSSY Pelléas et Mélisande; Act 1
URL:https://kyleket.com/event/pelleas-et-melisande/2023-04-05/
LOCATION:Dorothy Chandler Pavilion\, 135 N Grand Ave\, Los Angeles\, CA\, 90012\, United States
ATTACH;FMTTYPE=image/jpeg:https://kyleket.com/wp-content/uploads/2023/02/maxresdefault.jpg
END:VEVENT
BEGIN:VEVENT
DTSTART;TZID=America/Los_Angeles:20230402T140000
DTEND;TZID=America/Los_Angeles:20230402T173000
DTSTAMP:20260423T200500
CREATED:20230204T133704Z
LAST-MODIFIED:20230325T192441Z
UID:10000013-1680444000-1680456600@kyleket.com
SUMMARY:Pelléas et Mélisande - L.A. Opera
DESCRIPTION:Lost in the forest\, a prince encounters an ethereal beauty with a mysterious past (and lush locks that would make Rapunzel envious). But after she’s brought home to his family\, she begins to grow increasingly close to his handsome younger brother. \nDebussy’s sensual\, exquisitely nuanced score casts a hypnotic spell\, capturing an enigmatic dream world where forbidden love blossoms. \nConducted by James Conlon\, this fascinating lyric masterpiece stars two riveting young performers\, soprano Sydney Mancasola and baritone Will Liverman\, as the doomed lovers\, and Kyle Ketelsen as the jealous prince. The magnificent Susan Graham makes her role debut as Geneviève\, mother of the two rival brothers\, and the legendary bass Ferruccio Furlanetto returns as King Arkel\, the family patriarch unable to grasp the tragedy unfolding before him. \n\n“A score of all-but-unbearable tenderness and beauty…McVicar and his lighting designer Paule Constable respond with moments of visual wonder to match Maeterlinck and Debussy’s imagery of light and water.” \n\nRichard Bratby – The Spectator (UK)\n\n\n\nListen to this haunting clip from Act 1 of Pelléas et Mélisande:\n \nSydney Symphony Orchestra · DEBUSSY Pelléas et Mélisande; Act 1
URL:https://kyleket.com/event/pelleas-et-melisande/2023-04-02/
LOCATION:Dorothy Chandler Pavilion\, 135 N Grand Ave\, Los Angeles\, CA\, 90012\, United States
ATTACH;FMTTYPE=image/jpeg:https://kyleket.com/wp-content/uploads/2023/02/maxresdefault.jpg
END:VEVENT
BEGIN:VEVENT
DTSTART;TZID=America/Los_Angeles:20230325T193000
DTEND;TZID=America/Los_Angeles:20230325T230000
DTSTAMP:20260423T200500
CREATED:20230204T133704Z
LAST-MODIFIED:20230325T192441Z
UID:10000012-1679772600-1679785200@kyleket.com
SUMMARY:Pelléas et Mélisande - L.A. Opera
DESCRIPTION:Lost in the forest\, a prince encounters an ethereal beauty with a mysterious past (and lush locks that would make Rapunzel envious). But after she’s brought home to his family\, she begins to grow increasingly close to his handsome younger brother. \nDebussy’s sensual\, exquisitely nuanced score casts a hypnotic spell\, capturing an enigmatic dream world where forbidden love blossoms. \nConducted by James Conlon\, this fascinating lyric masterpiece stars two riveting young performers\, soprano Sydney Mancasola and baritone Will Liverman\, as the doomed lovers\, and Kyle Ketelsen as the jealous prince. The magnificent Susan Graham makes her role debut as Geneviève\, mother of the two rival brothers\, and the legendary bass Ferruccio Furlanetto returns as King Arkel\, the family patriarch unable to grasp the tragedy unfolding before him. \n\n“A score of all-but-unbearable tenderness and beauty…McVicar and his lighting designer Paule Constable respond with moments of visual wonder to match Maeterlinck and Debussy’s imagery of light and water.” \n\nRichard Bratby – The Spectator (UK)\n\n\n\nListen to this haunting clip from Act 1 of Pelléas et Mélisande:\n \nSydney Symphony Orchestra · DEBUSSY Pelléas et Mélisande; Act 1
URL:https://kyleket.com/event/pelleas-et-melisande/2023-03-25/
LOCATION:Dorothy Chandler Pavilion\, 135 N Grand Ave\, Los Angeles\, CA\, 90012\, United States
ATTACH;FMTTYPE=image/jpeg:https://kyleket.com/wp-content/uploads/2023/02/maxresdefault.jpg
END:VEVENT
END:VCALENDAR