BEGIN:VCALENDAR
VERSION:2.0
PRODID:-//Kyle Ketelsen - ECPv6.10.2//NONSGML v1.0//EN
CALSCALE:GREGORIAN
METHOD:PUBLISH
X-ORIGINAL-URL:https://kyleket.com
X-WR-CALDESC:Events for Kyle Ketelsen
REFRESH-INTERVAL;VALUE=DURATION:PT1H
X-Robots-Tag:noindex
X-PUBLISHED-TTL:PT1H
BEGIN:VTIMEZONE
TZID:America/Los_Angeles
BEGIN:DAYLIGHT
TZOFFSETFROM:-0800
TZOFFSETTO:-0700
TZNAME:PDT
DTSTART:20240310T100000
END:DAYLIGHT
BEGIN:STANDARD
TZOFFSETFROM:-0700
TZOFFSETTO:-0800
TZNAME:PST
DTSTART:20241103T090000
END:STANDARD
END:VTIMEZONE
BEGIN:VEVENT
DTSTART;TZID=America/Los_Angeles:20240316T140000
DTEND;TZID=America/Los_Angeles:20240316T150000
DTSTAMP:20260423T163801
CREATED:20240310T030336Z
LAST-MODIFIED:20240310T030344Z
UID:10000152-1710597600-1710601200@kyleket.com
SUMMARY:Beethoven Ninth Symphony - Handel and Haydn Society
DESCRIPTION:“Be embraced\, you millions!” Let the “divine spark” of joy catch fire in this iconic celebration of life. Guest conductor Raphaël Pichon\, the maestro behind last season’s blockbuster Marriage of Figaro\, delivers a fervently fresh take on this magnum opus in honor of its bicentennial. And it’s no surprise that our beloved chorus and orchestra tackle this uplifting music with both compassion and conviction. \n  \n \nnecmusic · Beethoven: Symphony no 9 in D minor- Scherzo Molto vivace – Presto
URL:https://kyleket.com/event/beethoven-ninth-symphony-handel-and-haydn-society/2024-03-16/
LOCATION:Boston Symphony Hall\, 301 Massachusetts Ave\, Boston\, MA\, 02115\, United States
ATTACH;FMTTYPE=image/jpeg:https://kyleket.com/wp-content/uploads/2024/03/Handel-and-Haydn-Society.jpeg
ORGANIZER;CN="Handel and Haydn Society":MAILTO:boxoffice@handelandhaydn.org
END:VEVENT
BEGIN:VEVENT
DTSTART;TZID=America/Los_Angeles:20240315T193000
DTEND;TZID=America/Los_Angeles:20240315T203000
DTSTAMP:20260423T163801
CREATED:20240310T030336Z
LAST-MODIFIED:20240310T030344Z
UID:10000151-1710531000-1710534600@kyleket.com
SUMMARY:Beethoven Ninth Symphony - Handel and Haydn Society
DESCRIPTION:“Be embraced\, you millions!” Let the “divine spark” of joy catch fire in this iconic celebration of life. Guest conductor Raphaël Pichon\, the maestro behind last season’s blockbuster Marriage of Figaro\, delivers a fervently fresh take on this magnum opus in honor of its bicentennial. And it’s no surprise that our beloved chorus and orchestra tackle this uplifting music with both compassion and conviction. \n  \n \nnecmusic · Beethoven: Symphony no 9 in D minor- Scherzo Molto vivace – Presto
URL:https://kyleket.com/event/beethoven-ninth-symphony-handel-and-haydn-society/2024-03-15/
LOCATION:Boston Symphony Hall\, 301 Massachusetts Ave\, Boston\, MA\, 02115\, United States
ATTACH;FMTTYPE=image/jpeg:https://kyleket.com/wp-content/uploads/2024/03/Handel-and-Haydn-Society.jpeg
ORGANIZER;CN="Handel and Haydn Society":MAILTO:boxoffice@handelandhaydn.org
END:VEVENT
END:VCALENDAR