BEGIN:VCALENDAR
VERSION:2.0
PRODID:-//Kyle Ketelsen - ECPv6.10.2//NONSGML v1.0//EN
CALSCALE:GREGORIAN
METHOD:PUBLISH
X-ORIGINAL-URL:https://kyleket.com
X-WR-CALDESC:Events for Kyle Ketelsen
REFRESH-INTERVAL;VALUE=DURATION:PT1H
X-Robots-Tag:noindex
X-PUBLISHED-TTL:PT1H
BEGIN:VTIMEZONE
TZID:Europe/Berlin
BEGIN:DAYLIGHT
TZOFFSETFROM:+0100
TZOFFSETTO:+0200
TZNAME:CEST
DTSTART:20260329T010000
END:DAYLIGHT
BEGIN:STANDARD
TZOFFSETFROM:+0200
TZOFFSETTO:+0100
TZNAME:CET
DTSTART:20261025T010000
END:STANDARD
END:VTIMEZONE
BEGIN:VEVENT
DTSTART;TZID=Europe/Berlin:20260501T193000
DTEND;TZID=Europe/Berlin:20260501T213000
DTSTAMP:20260423T073521
CREATED:20260201T104922Z
LAST-MODIFIED:20260201T110202Z
UID:10000212-1777663800-1777671000@kyleket.com
SUMMARY:Orest - Elektra - Staatsoper Hamburg
DESCRIPTION:The Gründerzeit: In this bourgeois family\, no one will find salvation. Their lives become a living hell. Elektra – the first part of the Strauss trilogy designed for the Hamburg State Opera by director Dmitri Tcherniakov – is a psychological exploration of the self-destruction of a family clan. Tcherniakov’s shift in focus from myth to family is no accident: Strauss saw a spoken theater production of the ancient myth in 1903\, a free adaptation by Hofmannsthal\, who subsequently became his brilliant librettist for six operas. Even in their debut work\, Strauss and Hofmannsthal dissected what lurked behind the bourgeois facade of Viennese refinement in their time: the abyss. Revenge against Elektra and Orestes’ father will destroy them all.\nThe tragedy premiered on January 25\, 1909\, at the Royal Opera in Dresden. The Hamburg production premiered on November 28\, 2021.\n\n\n\n\n\nThe first part of director Dmitri Tcherniakov’s Strauss trilogy is a psychological exploration of the self-destruction of a family clan. The shift in focus from ancient myth to family is no accident: Strauss and Hofmannsthal\, in their debut work premiered in Dresden in 1909\, already dissected what lurks behind the bourgeois facade of the Gründerzeit era: the abyss.\n\n\n\n  \n \njessicaphillipsclarinet · Strauss “Elektra”
URL:https://kyleket.com/event/orest-elektra-staatsoper-hamburg/2026-05-01/
ATTACH;FMTTYPE=image/jpeg:https://kyleket.com/wp-content/uploads/2024/09/jdi_57a4af7c6a874.jpg
END:VEVENT
BEGIN:VEVENT
DTSTART;TZID=Europe/Berlin:20260508T193000
DTEND;TZID=Europe/Berlin:20260508T213000
DTSTAMP:20260423T073521
CREATED:20260201T104922Z
LAST-MODIFIED:20260201T110202Z
UID:10000213-1778268600-1778275800@kyleket.com
SUMMARY:Orest - Elektra - Staatsoper Hamburg
DESCRIPTION:The Gründerzeit: In this bourgeois family\, no one will find salvation. Their lives become a living hell. Elektra – the first part of the Strauss trilogy designed for the Hamburg State Opera by director Dmitri Tcherniakov – is a psychological exploration of the self-destruction of a family clan. Tcherniakov’s shift in focus from myth to family is no accident: Strauss saw a spoken theater production of the ancient myth in 1903\, a free adaptation by Hofmannsthal\, who subsequently became his brilliant librettist for six operas. Even in their debut work\, Strauss and Hofmannsthal dissected what lurked behind the bourgeois facade of Viennese refinement in their time: the abyss. Revenge against Elektra and Orestes’ father will destroy them all.\nThe tragedy premiered on January 25\, 1909\, at the Royal Opera in Dresden. The Hamburg production premiered on November 28\, 2021.\n\n\n\n\n\nThe first part of director Dmitri Tcherniakov’s Strauss trilogy is a psychological exploration of the self-destruction of a family clan. The shift in focus from ancient myth to family is no accident: Strauss and Hofmannsthal\, in their debut work premiered in Dresden in 1909\, already dissected what lurks behind the bourgeois facade of the Gründerzeit era: the abyss.\n\n\n\n  \n \njessicaphillipsclarinet · Strauss “Elektra”
URL:https://kyleket.com/event/orest-elektra-staatsoper-hamburg/2026-05-08/
ATTACH;FMTTYPE=image/jpeg:https://kyleket.com/wp-content/uploads/2024/09/jdi_57a4af7c6a874.jpg
END:VEVENT
END:VCALENDAR