BEGIN:VCALENDAR
VERSION:2.0
PRODID:-//Kyle Ketelsen - ECPv6.10.2//NONSGML v1.0//EN
CALSCALE:GREGORIAN
METHOD:PUBLISH
X-ORIGINAL-URL:https://kyleket.com
X-WR-CALDESC:Events for Kyle Ketelsen
REFRESH-INTERVAL;VALUE=DURATION:PT1H
X-Robots-Tag:noindex
X-PUBLISHED-TTL:PT1H
BEGIN:VTIMEZONE
TZID:Europe/Berlin
BEGIN:DAYLIGHT
TZOFFSETFROM:+0100
TZOFFSETTO:+0200
TZNAME:CEST
DTSTART:20260329T010000
END:DAYLIGHT
BEGIN:STANDARD
TZOFFSETFROM:+0200
TZOFFSETTO:+0100
TZNAME:CET
DTSTART:20261025T010000
END:STANDARD
END:VTIMEZONE
BEGIN:VEVENT
DTSTART;TZID=Europe/Berlin:20260726T180000
DTEND;TZID=Europe/Berlin:20260726T201500
DTSTAMP:20260423T073521
CREATED:20250601T105738Z
LAST-MODIFIED:20250601T110050Z
UID:10000201-1785088800-1785096900@kyleket.com
SUMMARY:Der Freischütz - Kaspar/Samiel - Bayerische Staatsoper
DESCRIPTION:In a village community that holds firm to archaic customs\, the young hunter Max must pass a marksmanship test so he may marry his sweetheart\, Agathe. Of all times now when his shooting has been very much below par! Carl Maria von Weber and his librettist Friedrich Kind fluctuate between ghost story\, fairy tale\, fortune play and interplay between heaven and hell. The plot centres around a diabolical ritual in the “Wolf’s Glen”\, where a pact is made with Samiel to cast magic bullets that never miss their target. Its composer declared that the opera was celebrated by its world premiere audience in Berlin in 1821 with the\, “most incredible enthusiasm”. In the decades that followed\, the piece\, at the time considered nature-oriented and traditional-romantic\, swiftly became one of the most performed operas on German stages. And little wonder it was: In an age with a popular yearning for cultural\, national identification opportunities\, Der Freischütz offered a projection surface for an ideal community. So what about this opera appeals to director Dmitri Tcherniakov today?\n\n\n\n\n\n\n\n\n\n\n\n \nChicagoSymphony · Weber: Overture to Der Freischütz
URL:https://kyleket.com/event/der-freischutz-kaspar-samiel-bayerische-staatsoper/2026-07-26/
LOCATION:Bavarian State Opera\, Max-Joseph-Platz 2\, Munich\, Munich\, 80539\, Germany
ATTACH;FMTTYPE=image/jpeg:https://kyleket.com/wp-content/uploads/2025/06/Freischutz__K.Ketelsen_c_W_Hosl-27-scaled.jpeg
ORGANIZER;CN="Bavarian State Opera":MAILTO:tickets@staatsoper.de
GEO:48.139799065182;11.578791631733
X-APPLE-STRUCTURED-LOCATION;VALUE=URI;X-ADDRESS=Bavarian State Opera Max-Joseph-Platz 2 Munich Munich 80539 Germany;X-APPLE-RADIUS=500;X-TITLE=Max-Joseph-Platz 2:geo:11.578791631733,48.139799065182
END:VEVENT
BEGIN:VEVENT
DTSTART;TZID=Europe/Berlin:20260729T190000
DTEND;TZID=Europe/Berlin:20260729T211500
DTSTAMP:20260423T073521
CREATED:20250601T105738Z
LAST-MODIFIED:20250601T110050Z
UID:10000202-1785351600-1785359700@kyleket.com
SUMMARY:Der Freischütz - Kaspar/Samiel - Bayerische Staatsoper
DESCRIPTION:In a village community that holds firm to archaic customs\, the young hunter Max must pass a marksmanship test so he may marry his sweetheart\, Agathe. Of all times now when his shooting has been very much below par! Carl Maria von Weber and his librettist Friedrich Kind fluctuate between ghost story\, fairy tale\, fortune play and interplay between heaven and hell. The plot centres around a diabolical ritual in the “Wolf’s Glen”\, where a pact is made with Samiel to cast magic bullets that never miss their target. Its composer declared that the opera was celebrated by its world premiere audience in Berlin in 1821 with the\, “most incredible enthusiasm”. In the decades that followed\, the piece\, at the time considered nature-oriented and traditional-romantic\, swiftly became one of the most performed operas on German stages. And little wonder it was: In an age with a popular yearning for cultural\, national identification opportunities\, Der Freischütz offered a projection surface for an ideal community. So what about this opera appeals to director Dmitri Tcherniakov today?\n\n\n\n\n\n\n\n\n\n\n\n \nChicagoSymphony · Weber: Overture to Der Freischütz
URL:https://kyleket.com/event/der-freischutz-kaspar-samiel-bayerische-staatsoper/2026-07-29/
LOCATION:Bavarian State Opera\, Max-Joseph-Platz 2\, Munich\, Munich\, 80539\, Germany
ATTACH;FMTTYPE=image/jpeg:https://kyleket.com/wp-content/uploads/2025/06/Freischutz__K.Ketelsen_c_W_Hosl-27-scaled.jpeg
ORGANIZER;CN="Bavarian State Opera":MAILTO:tickets@staatsoper.de
GEO:48.139799065182;11.578791631733
X-APPLE-STRUCTURED-LOCATION;VALUE=URI;X-ADDRESS=Bavarian State Opera Max-Joseph-Platz 2 Munich Munich 80539 Germany;X-APPLE-RADIUS=500;X-TITLE=Max-Joseph-Platz 2:geo:11.578791631733,48.139799065182
END:VEVENT
END:VCALENDAR