BEGIN:VCALENDAR
VERSION:2.0
PRODID:-//Kyle Ketelsen - ECPv6.10.2//NONSGML v1.0//EN
CALSCALE:GREGORIAN
METHOD:PUBLISH
X-ORIGINAL-URL:https://kyleket.com
X-WR-CALDESC:Events for Kyle Ketelsen
REFRESH-INTERVAL;VALUE=DURATION:PT1H
X-Robots-Tag:noindex
X-PUBLISHED-TTL:PT1H
BEGIN:VTIMEZONE
TZID:Europe/Berlin
BEGIN:DAYLIGHT
TZOFFSETFROM:+0100
TZOFFSETTO:+0200
TZNAME:CEST
DTSTART:20260329T010000
END:DAYLIGHT
BEGIN:STANDARD
TZOFFSETFROM:+0200
TZOFFSETTO:+0100
TZNAME:CET
DTSTART:20261025T010000
END:STANDARD
END:VTIMEZONE
BEGIN:VTIMEZONE
TZID:America/Los_Angeles
BEGIN:DAYLIGHT
TZOFFSETFROM:-0800
TZOFFSETTO:-0700
TZNAME:PDT
DTSTART:20260308T100000
END:DAYLIGHT
BEGIN:STANDARD
TZOFFSETFROM:-0700
TZOFFSETTO:-0800
TZNAME:PST
DTSTART:20261101T090000
END:STANDARD
END:VTIMEZONE
BEGIN:VEVENT
DTSTART;TZID=Europe/Berlin:20260208T180000
DTEND;TZID=Europe/Berlin:20260208T210000
DTSTAMP:20260423T085417
CREATED:20250601T113955Z
LAST-MODIFIED:20250601T113956Z
UID:10000193-1770573600-1770584400@kyleket.com
SUMMARY:Faust - Méphistophélès - Bayerische Staatsoper
DESCRIPTION:On his futile search for the meaning of life\, the ageing scholar Faust makes a pact with the Devil. Méphistophélès buys his soul and promises him eternal youth and love. Faust falls in love with Marguerite\, however she soon leaves him. After she has killed their child\, Marguerite succumbs to madness\, but emerges morally superior from the encounter with Faust. \nOf the numerous scorings of the most famous material in the history of German literary\, the opera by the Frenchman Charles Gounod is perhaps the best known. In the 19th century the French opera developed an immense fondness for the German material\, but it was often very free with the restructuring for the libretto. From the original the successful French librettist duo\, Michel Carré and Jules Barbier (also the authors of the text of Les Contes d’Hoffmann) actually made a most effective opera text with a pronounced dramaturgy of contrasts – drinking scenes are contrasted with intimate ballads\, soldier choirs with the church service hymns of supplication. Not least of all because of its immortal arias\, after Bizet’s Carmen\, Gounod’s Faust has become the most successful French opera. \n  \n \nwww.gbopera.it · Charles Gounod (1818-1893): “Faust” (1859)
URL:https://kyleket.com/event/faust-mephistopheles-bayerische-staatsoper-3/
LOCATION:Bavarian State Opera\, Max-Joseph-Platz 2\, Munich\, Munich\, 80539\, Germany
ATTACH;FMTTYPE=image/jpeg:https://kyleket.com/wp-content/uploads/2025/05/Munich-Faust-1-scaled.jpg
ORGANIZER;CN="Bavarian State Opera":MAILTO:tickets@staatsoper.de
GEO:48.139799065182;11.578791631733
X-APPLE-STRUCTURED-LOCATION;VALUE=URI;X-ADDRESS=Bavarian State Opera Max-Joseph-Platz 2 Munich Munich 80539 Germany;X-APPLE-RADIUS=500;X-TITLE=Max-Joseph-Platz 2:geo:11.578791631733,48.139799065182
END:VEVENT
BEGIN:VEVENT
DTSTART;TZID=Europe/Berlin:20260213T190000
DTEND;TZID=Europe/Berlin:20260213T220000
DTSTAMP:20260423T085417
CREATED:20250601T114044Z
LAST-MODIFIED:20250601T114045Z
UID:10000194-1771009200-1771020000@kyleket.com
SUMMARY:Faust - Méphistophélès - Bayerische Staatsoper
DESCRIPTION:On his futile search for the meaning of life\, the ageing scholar Faust makes a pact with the Devil. Méphistophélès buys his soul and promises him eternal youth and love. Faust falls in love with Marguerite\, however she soon leaves him. After she has killed their child\, Marguerite succumbs to madness\, but emerges morally superior from the encounter with Faust. \nOf the numerous scorings of the most famous material in the history of German literary\, the opera by the Frenchman Charles Gounod is perhaps the best known. In the 19th century the French opera developed an immense fondness for the German material\, but it was often very free with the restructuring for the libretto. From the original the successful French librettist duo\, Michel Carré and Jules Barbier (also the authors of the text of Les Contes d’Hoffmann) actually made a most effective opera text with a pronounced dramaturgy of contrasts – drinking scenes are contrasted with intimate ballads\, soldier choirs with the church service hymns of supplication. Not least of all because of its immortal arias\, after Bizet’s Carmen\, Gounod’s Faust has become the most successful French opera. \n  \n \nwww.gbopera.it · Charles Gounod (1818-1893): “Faust” (1859)
URL:https://kyleket.com/event/faust-mephistopheles-bayerische-staatsoper-4/
LOCATION:Bavarian State Opera\, Max-Joseph-Platz 2\, Munich\, Munich\, 80539\, Germany
ATTACH;FMTTYPE=image/jpeg:https://kyleket.com/wp-content/uploads/2025/05/Munich-Faust-1-scaled.jpg
ORGANIZER;CN="Bavarian State Opera":MAILTO:tickets@staatsoper.de
GEO:48.139799065182;11.578791631733
X-APPLE-STRUCTURED-LOCATION;VALUE=URI;X-ADDRESS=Bavarian State Opera Max-Joseph-Platz 2 Munich Munich 80539 Germany;X-APPLE-RADIUS=500;X-TITLE=Max-Joseph-Platz 2:geo:11.578791631733,48.139799065182
END:VEVENT
BEGIN:VEVENT
DTSTART;TZID=Europe/Berlin:20260216T190000
DTEND;TZID=Europe/Berlin:20260216T220000
DTSTAMP:20260423T085417
CREATED:20250601T114110Z
LAST-MODIFIED:20250601T114111Z
UID:10000195-1771268400-1771279200@kyleket.com
SUMMARY:Faust - Méphistophélès - Bayerische Staatsoper
DESCRIPTION:On his futile search for the meaning of life\, the ageing scholar Faust makes a pact with the Devil. Méphistophélès buys his soul and promises him eternal youth and love. Faust falls in love with Marguerite\, however she soon leaves him. After she has killed their child\, Marguerite succumbs to madness\, but emerges morally superior from the encounter with Faust. \nOf the numerous scorings of the most famous material in the history of German literary\, the opera by the Frenchman Charles Gounod is perhaps the best known. In the 19th century the French opera developed an immense fondness for the German material\, but it was often very free with the restructuring for the libretto. From the original the successful French librettist duo\, Michel Carré and Jules Barbier (also the authors of the text of Les Contes d’Hoffmann) actually made a most effective opera text with a pronounced dramaturgy of contrasts – drinking scenes are contrasted with intimate ballads\, soldier choirs with the church service hymns of supplication. Not least of all because of its immortal arias\, after Bizet’s Carmen\, Gounod’s Faust has become the most successful French opera. \n  \n \nwww.gbopera.it · Charles Gounod (1818-1893): “Faust” (1859)
URL:https://kyleket.com/event/faust-mephistopheles-bayerische-staatsoper-5/
LOCATION:Bavarian State Opera\, Max-Joseph-Platz 2\, Munich\, Munich\, 80539\, Germany
ATTACH;FMTTYPE=image/jpeg:https://kyleket.com/wp-content/uploads/2025/05/Munich-Faust-1-scaled.jpg
ORGANIZER;CN="Bavarian State Opera":MAILTO:tickets@staatsoper.de
GEO:48.139799065182;11.578791631733
X-APPLE-STRUCTURED-LOCATION;VALUE=URI;X-ADDRESS=Bavarian State Opera Max-Joseph-Platz 2 Munich Munich 80539 Germany;X-APPLE-RADIUS=500;X-TITLE=Max-Joseph-Platz 2:geo:11.578791631733,48.139799065182
END:VEVENT
BEGIN:VEVENT
DTSTART;TZID=Europe/Berlin:20260219T190000
DTEND;TZID=Europe/Berlin:20260219T220000
DTSTAMP:20260423T085417
CREATED:20250601T114133Z
LAST-MODIFIED:20250601T114134Z
UID:10000196-1771527600-1771538400@kyleket.com
SUMMARY:Faust - Méphistophélès - Bayerische Staatsoper
DESCRIPTION:On his futile search for the meaning of life\, the ageing scholar Faust makes a pact with the Devil. Méphistophélès buys his soul and promises him eternal youth and love. Faust falls in love with Marguerite\, however she soon leaves him. After she has killed their child\, Marguerite succumbs to madness\, but emerges morally superior from the encounter with Faust. \nOf the numerous scorings of the most famous material in the history of German literary\, the opera by the Frenchman Charles Gounod is perhaps the best known. In the 19th century the French opera developed an immense fondness for the German material\, but it was often very free with the restructuring for the libretto. From the original the successful French librettist duo\, Michel Carré and Jules Barbier (also the authors of the text of Les Contes d’Hoffmann) actually made a most effective opera text with a pronounced dramaturgy of contrasts – drinking scenes are contrasted with intimate ballads\, soldier choirs with the church service hymns of supplication. Not least of all because of its immortal arias\, after Bizet’s Carmen\, Gounod’s Faust has become the most successful French opera. \n  \n \nwww.gbopera.it · Charles Gounod (1818-1893): “Faust” (1859)
URL:https://kyleket.com/event/faust-mephistopheles-bayerische-staatsoper-6/
LOCATION:Bavarian State Opera\, Max-Joseph-Platz 2\, Munich\, Munich\, 80539\, Germany
ATTACH;FMTTYPE=image/jpeg:https://kyleket.com/wp-content/uploads/2025/05/Munich-Faust-1-scaled.jpg
ORGANIZER;CN="Bavarian State Opera":MAILTO:tickets@staatsoper.de
GEO:48.139799065182;11.578791631733
X-APPLE-STRUCTURED-LOCATION;VALUE=URI;X-ADDRESS=Bavarian State Opera Max-Joseph-Platz 2 Munich Munich 80539 Germany;X-APPLE-RADIUS=500;X-TITLE=Max-Joseph-Platz 2:geo:11.578791631733,48.139799065182
END:VEVENT
BEGIN:VEVENT
DTSTART;TZID=Europe/Berlin:20260222T190000
DTEND;TZID=Europe/Berlin:20260222T220000
DTSTAMP:20260423T085417
CREATED:20250601T114201Z
LAST-MODIFIED:20250601T114201Z
UID:10000197-1771786800-1771797600@kyleket.com
SUMMARY:Faust - Méphistophélès - Bayerische Staatsoper
DESCRIPTION:On his futile search for the meaning of life\, the ageing scholar Faust makes a pact with the Devil. Méphistophélès buys his soul and promises him eternal youth and love. Faust falls in love with Marguerite\, however she soon leaves him. After she has killed their child\, Marguerite succumbs to madness\, but emerges morally superior from the encounter with Faust. \nOf the numerous scorings of the most famous material in the history of German literary\, the opera by the Frenchman Charles Gounod is perhaps the best known. In the 19th century the French opera developed an immense fondness for the German material\, but it was often very free with the restructuring for the libretto. From the original the successful French librettist duo\, Michel Carré and Jules Barbier (also the authors of the text of Les Contes d’Hoffmann) actually made a most effective opera text with a pronounced dramaturgy of contrasts – drinking scenes are contrasted with intimate ballads\, soldier choirs with the church service hymns of supplication. Not least of all because of its immortal arias\, after Bizet’s Carmen\, Gounod’s Faust has become the most successful French opera. \n  \n \nwww.gbopera.it · Charles Gounod (1818-1893): “Faust” (1859)
URL:https://kyleket.com/event/faust-mephistopheles-bayerische-staatsoper-7/
LOCATION:Bavarian State Opera\, Max-Joseph-Platz 2\, Munich\, Munich\, 80539\, Germany
ATTACH;FMTTYPE=image/jpeg:https://kyleket.com/wp-content/uploads/2025/05/Munich-Faust-1-scaled.jpg
ORGANIZER;CN="Bavarian State Opera":MAILTO:tickets@staatsoper.de
GEO:48.139799065182;11.578791631733
X-APPLE-STRUCTURED-LOCATION;VALUE=URI;X-ADDRESS=Bavarian State Opera Max-Joseph-Platz 2 Munich Munich 80539 Germany;X-APPLE-RADIUS=500;X-TITLE=Max-Joseph-Platz 2:geo:11.578791631733,48.139799065182
END:VEVENT
BEGIN:VEVENT
DTSTART;TZID=America/Los_Angeles:20260227T190000
DTEND;TZID=America/Los_Angeles:20260227T220000
DTSTAMP:20260423T085417
CREATED:20250531T072209Z
LAST-MODIFIED:20250531T072545Z
UID:10000206-1772218800-1772229600@kyleket.com
SUMMARY:Faust - Méphistophélès - Bayerische Staatsoper
DESCRIPTION:On his futile search for the meaning of life\, the ageing scholar Faust makes a pact with the Devil. Méphistophélès buys his soul and promises him eternal youth and love. Faust falls in love with Marguerite\, however she soon leaves him. After she has killed their child\, Marguerite succumbs to madness\, but emerges morally superior from the encounter with Faust. \nOf the numerous scorings of the most famous material in the history of German literary\, the opera by the Frenchman Charles Gounod is perhaps the best known. In the 19th century the French opera developed an immense fondness for the German material\, but it was often very free with the restructuring for the libretto. From the original the successful French librettist duo\, Michel Carré and Jules Barbier (also the authors of the text of Les Contes d’Hoffmann) actually made a most effective opera text with a pronounced dramaturgy of contrasts – drinking scenes are contrasted with intimate ballads\, soldier choirs with the church service hymns of supplication. Not least of all because of its immortal arias\, after Bizet’s Carmen\, Gounod’s Faust has become the most successful French opera. \n  \n \nwww.gbopera.it · Charles Gounod (1818-1893): “Faust” (1859)
URL:https://kyleket.com/event/faust-mephistopheles-bayerische-staatsoper/
LOCATION:Bavarian State Opera\, Max-Joseph-Platz 2\, Munich\, Munich\, 80539\, Germany
ATTACH;FMTTYPE=image/jpeg:https://kyleket.com/wp-content/uploads/2025/05/Munich-Faust-1-scaled.jpg
ORGANIZER;CN="Bavarian State Opera":MAILTO:tickets@staatsoper.de
GEO:48.139799065182;11.578791631733
X-APPLE-STRUCTURED-LOCATION;VALUE=URI;X-ADDRESS=Bavarian State Opera Max-Joseph-Platz 2 Munich Munich 80539 Germany;X-APPLE-RADIUS=500;X-TITLE=Max-Joseph-Platz 2:geo:11.578791631733,48.139799065182
END:VEVENT
BEGIN:VEVENT
DTSTART;TZID=Europe/Berlin:20260227T190000
DTEND;TZID=Europe/Berlin:20260227T220000
DTSTAMP:20260423T085417
CREATED:20250601T114234Z
LAST-MODIFIED:20250601T114235Z
UID:10000198-1772218800-1772229600@kyleket.com
SUMMARY:Faust - Méphistophélès - Bayerische Staatsoper
DESCRIPTION:On his futile search for the meaning of life\, the ageing scholar Faust makes a pact with the Devil. Méphistophélès buys his soul and promises him eternal youth and love. Faust falls in love with Marguerite\, however she soon leaves him. After she has killed their child\, Marguerite succumbs to madness\, but emerges morally superior from the encounter with Faust. \nOf the numerous scorings of the most famous material in the history of German literary\, the opera by the Frenchman Charles Gounod is perhaps the best known. In the 19th century the French opera developed an immense fondness for the German material\, but it was often very free with the restructuring for the libretto. From the original the successful French librettist duo\, Michel Carré and Jules Barbier (also the authors of the text of Les Contes d’Hoffmann) actually made a most effective opera text with a pronounced dramaturgy of contrasts – drinking scenes are contrasted with intimate ballads\, soldier choirs with the church service hymns of supplication. Not least of all because of its immortal arias\, after Bizet’s Carmen\, Gounod’s Faust has become the most successful French opera. \n  \n \nwww.gbopera.it · Charles Gounod (1818-1893): “Faust” (1859)
URL:https://kyleket.com/event/faust-mephistopheles-bayerische-staatsoper-8/
LOCATION:Bavarian State Opera\, Max-Joseph-Platz 2\, Munich\, Munich\, 80539\, Germany
ATTACH;FMTTYPE=image/jpeg:https://kyleket.com/wp-content/uploads/2025/05/Munich-Faust-1-scaled.jpg
ORGANIZER;CN="Bavarian State Opera":MAILTO:tickets@staatsoper.de
GEO:48.139799065182;11.578791631733
X-APPLE-STRUCTURED-LOCATION;VALUE=URI;X-ADDRESS=Bavarian State Opera Max-Joseph-Platz 2 Munich Munich 80539 Germany;X-APPLE-RADIUS=500;X-TITLE=Max-Joseph-Platz 2:geo:11.578791631733,48.139799065182
END:VEVENT
END:VCALENDAR