BEGIN:VCALENDAR
VERSION:2.0
PRODID:-//Kyle Ketelsen - ECPv6.10.2//NONSGML v1.0//EN
CALSCALE:GREGORIAN
METHOD:PUBLISH
X-ORIGINAL-URL:https://kyleket.com
X-WR-CALDESC:Events for Kyle Ketelsen
REFRESH-INTERVAL;VALUE=DURATION:PT1H
X-Robots-Tag:noindex
X-PUBLISHED-TTL:PT1H
BEGIN:VTIMEZONE
TZID:America/Chicago
BEGIN:DAYLIGHT
TZOFFSETFROM:-0600
TZOFFSETTO:-0500
TZNAME:CDT
DTSTART:20250309T080000
END:DAYLIGHT
BEGIN:STANDARD
TZOFFSETFROM:-0500
TZOFFSETTO:-0600
TZNAME:CST
DTSTART:20251102T070000
END:STANDARD
END:VTIMEZONE
BEGIN:VEVENT
DTSTART;TZID=America/Chicago:20251205T193000
DTEND;TZID=America/Chicago:20251205T210000
DTSTAMP:20260423T112729
CREATED:20250601T112254Z
LAST-MODIFIED:20250601T112255Z
UID:10000203-1764963000-1764968400@kyleket.com
SUMMARY:A Madison Symphony Christmas
DESCRIPTION:This spectacular annual celebration has become a joyful way to begin the holiday season in our community for concertgoers of all ages. It’s no wonder that Maestro DeMain is bringing two of his favorite soloists\, soprano Alexandra LoBianco and bass-baritone Kyle Ketelsen\, to share their gifts\, for his 32nd season. The Madison Symphony Chorus\, Madison Youth Choirs\, and the Mt. Zion Gospel Choir join us to bring this special concert to life. You’ll experience the same blend of familiar and new once again this year. The experience starts with caroling in the lobby with the Chorus before each performance to set the mood. Bring your family and friends to share this beloved Madison tradition with us! \n 
URL:https://kyleket.com/event/a-madison-symphony-christmas/2025-12-05/
LOCATION:Overture Center for the Arts\, 201 State Street\, Madison\, WI\, 53703\, United States
ATTACH;FMTTYPE=image/jpeg:https://kyleket.com/wp-content/uploads/2025/06/Madison-Xmas-2025.jpg
ORGANIZER;CN="Madison Symphony Orchestra":MAILTO:info@madisonsymphony.org
END:VEVENT
BEGIN:VEVENT
DTSTART;TZID=America/Chicago:20251206T193000
DTEND;TZID=America/Chicago:20251206T210000
DTSTAMP:20260423T112729
CREATED:20250601T112254Z
LAST-MODIFIED:20250601T112255Z
UID:10000204-1765049400-1765054800@kyleket.com
SUMMARY:A Madison Symphony Christmas
DESCRIPTION:This spectacular annual celebration has become a joyful way to begin the holiday season in our community for concertgoers of all ages. It’s no wonder that Maestro DeMain is bringing two of his favorite soloists\, soprano Alexandra LoBianco and bass-baritone Kyle Ketelsen\, to share their gifts\, for his 32nd season. The Madison Symphony Chorus\, Madison Youth Choirs\, and the Mt. Zion Gospel Choir join us to bring this special concert to life. You’ll experience the same blend of familiar and new once again this year. The experience starts with caroling in the lobby with the Chorus before each performance to set the mood. Bring your family and friends to share this beloved Madison tradition with us! \n 
URL:https://kyleket.com/event/a-madison-symphony-christmas/2025-12-06/
LOCATION:Overture Center for the Arts\, 201 State Street\, Madison\, WI\, 53703\, United States
ATTACH;FMTTYPE=image/jpeg:https://kyleket.com/wp-content/uploads/2025/06/Madison-Xmas-2025.jpg
ORGANIZER;CN="Madison Symphony Orchestra":MAILTO:info@madisonsymphony.org
END:VEVENT
BEGIN:VEVENT
DTSTART;TZID=America/Chicago:20251207T143000
DTEND;TZID=America/Chicago:20251207T160000
DTSTAMP:20260423T112729
CREATED:20250601T112254Z
LAST-MODIFIED:20250601T112255Z
UID:10000205-1765117800-1765123200@kyleket.com
SUMMARY:A Madison Symphony Christmas
DESCRIPTION:This spectacular annual celebration has become a joyful way to begin the holiday season in our community for concertgoers of all ages. It’s no wonder that Maestro DeMain is bringing two of his favorite soloists\, soprano Alexandra LoBianco and bass-baritone Kyle Ketelsen\, to share their gifts\, for his 32nd season. The Madison Symphony Chorus\, Madison Youth Choirs\, and the Mt. Zion Gospel Choir join us to bring this special concert to life. You’ll experience the same blend of familiar and new once again this year. The experience starts with caroling in the lobby with the Chorus before each performance to set the mood. Bring your family and friends to share this beloved Madison tradition with us! \n 
URL:https://kyleket.com/event/a-madison-symphony-christmas/2025-12-07/
LOCATION:Overture Center for the Arts\, 201 State Street\, Madison\, WI\, 53703\, United States
ATTACH;FMTTYPE=image/jpeg:https://kyleket.com/wp-content/uploads/2025/06/Madison-Xmas-2025.jpg
ORGANIZER;CN="Madison Symphony Orchestra":MAILTO:info@madisonsymphony.org
END:VEVENT
END:VCALENDAR