BEGIN:VCALENDAR
VERSION:2.0
PRODID:-//Kyle Ketelsen - ECPv6.10.2//NONSGML v1.0//EN
CALSCALE:GREGORIAN
METHOD:PUBLISH
X-WR-CALNAME:Kyle Ketelsen
X-ORIGINAL-URL:https://kyleket.com
X-WR-CALDESC:Events for Kyle Ketelsen
REFRESH-INTERVAL;VALUE=DURATION:PT1H
X-Robots-Tag:noindex
X-PUBLISHED-TTL:PT1H
BEGIN:VTIMEZONE
TZID:America/New_York
BEGIN:DAYLIGHT
TZOFFSETFROM:-0500
TZOFFSETTO:-0400
TZNAME:EDT
DTSTART:20250309T070000
END:DAYLIGHT
BEGIN:STANDARD
TZOFFSETFROM:-0400
TZOFFSETTO:-0500
TZNAME:EST
DTSTART:20251102T060000
END:STANDARD
END:VTIMEZONE
BEGIN:VEVENT
DTSTART;TZID=America/New_York:20251106T193000
DTEND;TZID=America/New_York:20251106T230000
DTSTAMP:20260423T124042
CREATED:20250311T145300Z
LAST-MODIFIED:20250311T150501Z
UID:10000184-1762457400-1762470000@kyleket.com
SUMMARY:Don Giovanni - Title Role - Metropolitan Opera
DESCRIPTION:World premiere: National Theater (now Estates Theater)\, Prague\, 1787. Aided by his ingenious librettist\, Lorenzo Da Ponte\, Mozart approached his operatic retelling of the Don Juan myth from a point of view that is neither tragic nor entirely comic\, but rather lighthearted\, urbane\, and ironic. We follow the title character and his earthy comic sidekick\, Leporello\, through a series of encounters that begins with a fatal duel\, moves back and forth between the humorous and the sentimental\, and ends with the protagonist being dragged down to hell. \n \nPhilharmonia Orchestra · Don Giovanni: Overture
URL:https://kyleket.com/event/don-giovanni-title-role-metropolitan-opera/2025-11-06/
LOCATION:Lincoln Center for the Performing Arts: Metropolitan Opera House\, Lincoln Center Plaza\, New York\, NY\, NY 10023\, United States
ATTACH;FMTTYPE=image/jpeg:https://kyleket.com/wp-content/uploads/2025/03/Met-giovanni-2025.jpg
END:VEVENT
BEGIN:VEVENT
DTSTART;TZID=America/New_York:20251111T193000
DTEND;TZID=America/New_York:20251111T230000
DTSTAMP:20260423T124042
CREATED:20250311T145300Z
LAST-MODIFIED:20250311T150501Z
UID:10000185-1762889400-1762902000@kyleket.com
SUMMARY:Don Giovanni - Title Role - Metropolitan Opera
DESCRIPTION:World premiere: National Theater (now Estates Theater)\, Prague\, 1787. Aided by his ingenious librettist\, Lorenzo Da Ponte\, Mozart approached his operatic retelling of the Don Juan myth from a point of view that is neither tragic nor entirely comic\, but rather lighthearted\, urbane\, and ironic. We follow the title character and his earthy comic sidekick\, Leporello\, through a series of encounters that begins with a fatal duel\, moves back and forth between the humorous and the sentimental\, and ends with the protagonist being dragged down to hell. \n \nPhilharmonia Orchestra · Don Giovanni: Overture
URL:https://kyleket.com/event/don-giovanni-title-role-metropolitan-opera/2025-11-11/
LOCATION:Lincoln Center for the Performing Arts: Metropolitan Opera House\, Lincoln Center Plaza\, New York\, NY\, NY 10023\, United States
ATTACH;FMTTYPE=image/jpeg:https://kyleket.com/wp-content/uploads/2025/03/Met-giovanni-2025.jpg
END:VEVENT
BEGIN:VEVENT
DTSTART;TZID=America/New_York:20251115T130000
DTEND;TZID=America/New_York:20251115T163000
DTSTAMP:20260423T124042
CREATED:20250311T145300Z
LAST-MODIFIED:20250311T150501Z
UID:10000186-1763211600-1763224200@kyleket.com
SUMMARY:Don Giovanni - Title Role - Metropolitan Opera
DESCRIPTION:World premiere: National Theater (now Estates Theater)\, Prague\, 1787. Aided by his ingenious librettist\, Lorenzo Da Ponte\, Mozart approached his operatic retelling of the Don Juan myth from a point of view that is neither tragic nor entirely comic\, but rather lighthearted\, urbane\, and ironic. We follow the title character and his earthy comic sidekick\, Leporello\, through a series of encounters that begins with a fatal duel\, moves back and forth between the humorous and the sentimental\, and ends with the protagonist being dragged down to hell. \n \nPhilharmonia Orchestra · Don Giovanni: Overture
URL:https://kyleket.com/event/don-giovanni-title-role-metropolitan-opera/2025-11-15/
LOCATION:Lincoln Center for the Performing Arts: Metropolitan Opera House\, Lincoln Center Plaza\, New York\, NY\, NY 10023\, United States
ATTACH;FMTTYPE=image/jpeg:https://kyleket.com/wp-content/uploads/2025/03/Met-giovanni-2025.jpg
END:VEVENT
BEGIN:VEVENT
DTSTART;TZID=America/New_York:20251119T193000
DTEND;TZID=America/New_York:20251119T230000
DTSTAMP:20260423T124042
CREATED:20250311T145300Z
LAST-MODIFIED:20250311T150501Z
UID:10000187-1763580600-1763593200@kyleket.com
SUMMARY:Don Giovanni - Title Role - Metropolitan Opera
DESCRIPTION:World premiere: National Theater (now Estates Theater)\, Prague\, 1787. Aided by his ingenious librettist\, Lorenzo Da Ponte\, Mozart approached his operatic retelling of the Don Juan myth from a point of view that is neither tragic nor entirely comic\, but rather lighthearted\, urbane\, and ironic. We follow the title character and his earthy comic sidekick\, Leporello\, through a series of encounters that begins with a fatal duel\, moves back and forth between the humorous and the sentimental\, and ends with the protagonist being dragged down to hell. \n \nPhilharmonia Orchestra · Don Giovanni: Overture
URL:https://kyleket.com/event/don-giovanni-title-role-metropolitan-opera/2025-11-19/
LOCATION:Lincoln Center for the Performing Arts: Metropolitan Opera House\, Lincoln Center Plaza\, New York\, NY\, NY 10023\, United States
ATTACH;FMTTYPE=image/jpeg:https://kyleket.com/wp-content/uploads/2025/03/Met-giovanni-2025.jpg
END:VEVENT
BEGIN:VEVENT
DTSTART;TZID=America/New_York:20251122T200000
DTEND;TZID=America/New_York:20251122T233000
DTSTAMP:20260423T124042
CREATED:20250311T145300Z
LAST-MODIFIED:20250311T150501Z
UID:10000188-1763841600-1763854200@kyleket.com
SUMMARY:Don Giovanni - Title Role - Metropolitan Opera
DESCRIPTION:World premiere: National Theater (now Estates Theater)\, Prague\, 1787. Aided by his ingenious librettist\, Lorenzo Da Ponte\, Mozart approached his operatic retelling of the Don Juan myth from a point of view that is neither tragic nor entirely comic\, but rather lighthearted\, urbane\, and ironic. We follow the title character and his earthy comic sidekick\, Leporello\, through a series of encounters that begins with a fatal duel\, moves back and forth between the humorous and the sentimental\, and ends with the protagonist being dragged down to hell. \n \nPhilharmonia Orchestra · Don Giovanni: Overture
URL:https://kyleket.com/event/don-giovanni-title-role-metropolitan-opera/2025-11-22/
LOCATION:Lincoln Center for the Performing Arts: Metropolitan Opera House\, Lincoln Center Plaza\, New York\, NY\, NY 10023\, United States
ATTACH;FMTTYPE=image/jpeg:https://kyleket.com/wp-content/uploads/2025/03/Met-giovanni-2025.jpg
END:VEVENT
END:VCALENDAR