BEGIN:VCALENDAR
VERSION:2.0
PRODID:-//Kyle Ketelsen - ECPv6.10.2//NONSGML v1.0//EN
CALSCALE:GREGORIAN
METHOD:PUBLISH
X-WR-CALNAME:Kyle Ketelsen
X-ORIGINAL-URL:https://kyleket.com
X-WR-CALDESC:Events for Kyle Ketelsen
REFRESH-INTERVAL;VALUE=DURATION:PT1H
X-Robots-Tag:noindex
X-PUBLISHED-TTL:PT1H
BEGIN:VTIMEZONE
TZID:America/Los_Angeles
BEGIN:DAYLIGHT
TZOFFSETFROM:-0800
TZOFFSETTO:-0700
TZNAME:PDT
DTSTART:20200308T100000
END:DAYLIGHT
BEGIN:STANDARD
TZOFFSETFROM:-0700
TZOFFSETTO:-0800
TZNAME:PST
DTSTART:20201101T090000
END:STANDARD
END:VTIMEZONE
BEGIN:VEVENT
DTSTART;TZID=America/Los_Angeles:20200229T190000
DTEND;TZID=America/Los_Angeles:20200229T230000
DTSTAMP:20260424T000233
CREATED:20230216T142501Z
LAST-MODIFIED:20230216T142523Z
UID:10000066-1583002800-1583017200@kyleket.com
SUMMARY:Leporello - Don Giovanni
DESCRIPTION:
URL:https://kyleket.com/event/leporello-don-giovanni/2020-02-29/
LOCATION:Kennedy Center: Opera House\, 2700 F St NW\, Washington\, WA\, DC 20566\, United States
ATTACH;FMTTYPE=image/webp:https://kyleket.com/wp-content/uploads/2023/02/12.webp
END:VEVENT
END:VCALENDAR