BEGIN:VCALENDAR
VERSION:2.0
PRODID:-//Kyle Ketelsen - ECPv6.10.2//NONSGML v1.0//EN
CALSCALE:GREGORIAN
METHOD:PUBLISH
X-ORIGINAL-URL:https://kyleket.com
X-WR-CALDESC:Events for Kyle Ketelsen
REFRESH-INTERVAL;VALUE=DURATION:PT1H
X-Robots-Tag:noindex
X-PUBLISHED-TTL:PT1H
BEGIN:VTIMEZONE
TZID:America/Los_Angeles
BEGIN:DAYLIGHT
TZOFFSETFROM:-0800
TZOFFSETTO:-0700
TZNAME:PDT
DTSTART:20200308T100000
END:DAYLIGHT
BEGIN:STANDARD
TZOFFSETFROM:-0700
TZOFFSETTO:-0800
TZNAME:PST
DTSTART:20201101T090000
END:STANDARD
BEGIN:DAYLIGHT
TZOFFSETFROM:-0800
TZOFFSETTO:-0700
TZNAME:PDT
DTSTART:20210314T100000
END:DAYLIGHT
BEGIN:STANDARD
TZOFFSETFROM:-0700
TZOFFSETTO:-0800
TZNAME:PST
DTSTART:20211107T090000
END:STANDARD
END:VTIMEZONE
BEGIN:VEVENT
DTSTART;TZID=America/Los_Angeles:20210926T140000
DTEND;TZID=America/Los_Angeles:20210926T180000
DTSTAMP:20260423T213018
CREATED:20230216T125840Z
LAST-MODIFIED:20230217T114209Z
UID:10000038-1632664800-1632679200@kyleket.com
SUMMARY:Dulcamara - L'Elisir d'Amore (Donizetti - The Elixir of Love)
DESCRIPTION:No operatic hero is more endearing than Nemorino\, who pines for the flirtatious Adina. She’s the owner of the town’s hotel\, he’s her delightfully naive waiter. His only hope to win her is the “elixir” sold by the quack\, Dr. Dulcamara — little does he know that it’s just Bordeaux wine! From start to finish we root for Nemorino\, as Adina toys with him until she finally lets him know how she really feels. Elixir is opera’s most heartwarming comedy\, filled with Donizetti’s delectable music that brings nonstop smiles. \nLanguage: Sung in Italian with projected English texts\nRunning Time: 2 hours 30 minutes with 1 intermission\nLocation: Lyric Opera House
URL:https://kyleket.com/event/dulcamara-lelisir-damore/2021-09-26/
LOCATION:Civic Opera House\, 20 N Upper Wacker Dr STE 400\, Chicago\, IL\, IL 60606\, United States
ATTACH;FMTTYPE=image/jpeg:https://kyleket.com/wp-content/uploads/2023/02/28-loc-elixir-kyle-ketelsen-ailyn-perez-photo-cory-weaver-_dsc4192a.jpg
END:VEVENT
BEGIN:VEVENT
DTSTART;TZID=America/Los_Angeles:20210724T200000
DTEND;TZID=America/Los_Angeles:20210724T233000
DTSTAMP:20260423T213018
CREATED:20230216T133407Z
LAST-MODIFIED:20230216T134107Z
UID:10000048-1627156800-1627169400@kyleket.com
SUMMARY:Madison Opera in the Park 20th Anniversary - LIVE FREE EVENT
DESCRIPTION:
URL:https://kyleket.com/event/madison-opera-in-the-park-20th-anniversary-live-free-event/
LOCATION:Garner Park\, 333 S Rosa Rd\, Madison\, WI\, 53705\, United States
ATTACH;FMTTYPE=image/jpeg:https://kyleket.com/wp-content/uploads/2023/02/5-1.jpg
END:VEVENT
BEGIN:VEVENT
DTSTART;TZID=America/Los_Angeles:20210623T190000
DTEND;TZID=America/Los_Angeles:20210623T230000
DTSTAMP:20260423T213018
CREATED:20230216T134919Z
LAST-MODIFIED:20230216T135203Z
UID:10000056-1624474800-1624489200@kyleket.com
SUMMARY:Adahm - Die Ersten Menschen
DESCRIPTION:
URL:https://kyleket.com/event/adahm-die-ersten-menschen/2021-06-23/
LOCATION:Netherlands Opera: Het Muziektheater\, Waterlooplein 22\, Amsterdam\, Amsterdam\, 1011 PG\, Netherlands
ATTACH;FMTTYPE=image/jpeg:https://kyleket.com/wp-content/uploads/2023/02/7-1.jpg
END:VEVENT
BEGIN:VEVENT
DTSTART;TZID=America/Los_Angeles:20210620T140000
DTEND;TZID=America/Los_Angeles:20210620T180000
DTSTAMP:20260423T213018
CREATED:20230216T134919Z
LAST-MODIFIED:20230216T135203Z
UID:10000055-1624197600-1624212000@kyleket.com
SUMMARY:Adahm - Die Ersten Menschen
DESCRIPTION:
URL:https://kyleket.com/event/adahm-die-ersten-menschen/2021-06-20/
LOCATION:Netherlands Opera: Het Muziektheater\, Waterlooplein 22\, Amsterdam\, Amsterdam\, 1011 PG\, Netherlands
ATTACH;FMTTYPE=image/jpeg:https://kyleket.com/wp-content/uploads/2023/02/7-1.jpg
END:VEVENT
BEGIN:VEVENT
DTSTART;TZID=America/Los_Angeles:20210616T190000
DTEND;TZID=America/Los_Angeles:20210616T230000
DTSTAMP:20260423T213018
CREATED:20230216T134919Z
LAST-MODIFIED:20230216T135203Z
UID:10000054-1623870000-1623884400@kyleket.com
SUMMARY:Adahm - Die Ersten Menschen
DESCRIPTION:
URL:https://kyleket.com/event/adahm-die-ersten-menschen/2021-06-16/
LOCATION:Netherlands Opera: Het Muziektheater\, Waterlooplein 22\, Amsterdam\, Amsterdam\, 1011 PG\, Netherlands
ATTACH;FMTTYPE=image/jpeg:https://kyleket.com/wp-content/uploads/2023/02/7-1.jpg
END:VEVENT
BEGIN:VEVENT
DTSTART;TZID=America/Los_Angeles:20210609T190000
DTEND;TZID=America/Los_Angeles:20210609T230000
DTSTAMP:20260423T213018
CREATED:20230216T134919Z
LAST-MODIFIED:20230216T135203Z
UID:10000053-1623265200-1623279600@kyleket.com
SUMMARY:Adahm - Die Ersten Menschen
DESCRIPTION:
URL:https://kyleket.com/event/adahm-die-ersten-menschen/2021-06-09/
LOCATION:Netherlands Opera: Het Muziektheater\, Waterlooplein 22\, Amsterdam\, Amsterdam\, 1011 PG\, Netherlands
ATTACH;FMTTYPE=image/jpeg:https://kyleket.com/wp-content/uploads/2023/02/7-1.jpg
END:VEVENT
BEGIN:VEVENT
DTSTART;TZID=America/Los_Angeles:20210606T140000
DTEND;TZID=America/Los_Angeles:20210606T180000
DTSTAMP:20260423T213018
CREATED:20230216T134919Z
LAST-MODIFIED:20230216T135203Z
UID:10000052-1622988000-1623002400@kyleket.com
SUMMARY:Adahm - Die Ersten Menschen
DESCRIPTION:
URL:https://kyleket.com/event/adahm-die-ersten-menschen/2021-06-06/
LOCATION:Netherlands Opera: Het Muziektheater\, Waterlooplein 22\, Amsterdam\, Amsterdam\, 1011 PG\, Netherlands
ATTACH;FMTTYPE=image/jpeg:https://kyleket.com/wp-content/uploads/2023/02/7-1.jpg
END:VEVENT
BEGIN:VEVENT
DTSTART;TZID=America/Los_Angeles:20210603T190000
DTEND;TZID=America/Los_Angeles:20210603T230000
DTSTAMP:20260423T213018
CREATED:20230216T134919Z
LAST-MODIFIED:20230216T135203Z
UID:10000051-1622746800-1622761200@kyleket.com
SUMMARY:Adahm - Die Ersten Menschen
DESCRIPTION:
URL:https://kyleket.com/event/adahm-die-ersten-menschen/2021-06-03/
LOCATION:Netherlands Opera: Het Muziektheater\, Waterlooplein 22\, Amsterdam\, Amsterdam\, 1011 PG\, Netherlands
ATTACH;FMTTYPE=image/jpeg:https://kyleket.com/wp-content/uploads/2023/02/7-1.jpg
END:VEVENT
BEGIN:VEVENT
DTSTART;TZID=America/Los_Angeles:20210417T193000
DTEND;TZID=America/Los_Angeles:20210417T233000
DTSTAMP:20260423T213018
CREATED:20230216T135908Z
LAST-MODIFIED:20230216T135934Z
UID:10000060-1618687800-1618702200@kyleket.com
SUMMARY:Figaro - Le Nozze di Figaro - In Concert
DESCRIPTION:
URL:https://kyleket.com/event/figaro-le-nozze-di-figaro-in-concert/2021-04-17/
LOCATION:Margot and Bill Winspear Opera House\, 2403 Flora St\, Dallas\, TX\, TX 75201\, United States
ATTACH;FMTTYPE=image/jpeg:https://kyleket.com/wp-content/uploads/2023/02/8-1.jpg
END:VEVENT
BEGIN:VEVENT
DTSTART;TZID=America/Los_Angeles:20210414T193000
DTEND;TZID=America/Los_Angeles:20210414T233000
DTSTAMP:20260423T213018
CREATED:20230216T135908Z
LAST-MODIFIED:20230216T135934Z
UID:10000059-1618428600-1618443000@kyleket.com
SUMMARY:Figaro - Le Nozze di Figaro - In Concert
DESCRIPTION:
URL:https://kyleket.com/event/figaro-le-nozze-di-figaro-in-concert/2021-04-14/
LOCATION:Margot and Bill Winspear Opera House\, 2403 Flora St\, Dallas\, TX\, TX 75201\, United States
ATTACH;FMTTYPE=image/jpeg:https://kyleket.com/wp-content/uploads/2023/02/8-1.jpg
END:VEVENT
BEGIN:VEVENT
DTSTART;TZID=America/Los_Angeles:20210411T140000
DTEND;TZID=America/Los_Angeles:20210411T180000
DTSTAMP:20260423T213018
CREATED:20230216T135908Z
LAST-MODIFIED:20230216T135934Z
UID:10000058-1618149600-1618164000@kyleket.com
SUMMARY:Figaro - Le Nozze di Figaro - In Concert
DESCRIPTION:
URL:https://kyleket.com/event/figaro-le-nozze-di-figaro-in-concert/2021-04-11/
LOCATION:Margot and Bill Winspear Opera House\, 2403 Flora St\, Dallas\, TX\, TX 75201\, United States
ATTACH;FMTTYPE=image/jpeg:https://kyleket.com/wp-content/uploads/2023/02/8-1.jpg
END:VEVENT
BEGIN:VEVENT
DTSTART;TZID=America/Los_Angeles:20210409T193000
DTEND;TZID=America/Los_Angeles:20210409T233000
DTSTAMP:20260423T213018
CREATED:20230216T135908Z
LAST-MODIFIED:20230216T135934Z
UID:10000057-1617996600-1618011000@kyleket.com
SUMMARY:Figaro - Le Nozze di Figaro - In Concert
DESCRIPTION:
URL:https://kyleket.com/event/figaro-le-nozze-di-figaro-in-concert/2021-04-09/
LOCATION:Margot and Bill Winspear Opera House\, 2403 Flora St\, Dallas\, TX\, TX 75201\, United States
ATTACH;FMTTYPE=image/jpeg:https://kyleket.com/wp-content/uploads/2023/02/8-1.jpg
END:VEVENT
BEGIN:VEVENT
DTSTART;TZID=America/Los_Angeles:20210215T190000
DTEND;TZID=America/Los_Angeles:20210215T230000
DTSTAMP:20260423T213018
CREATED:20230216T140435Z
LAST-MODIFIED:20230216T140454Z
UID:10000062-1613415600-1613430000@kyleket.com
SUMMARY:Kaspar - Der Freischütz - FREE LIVESTREAM
DESCRIPTION:
URL:https://kyleket.com/event/kaspar-der-freischutz-free-livestream/2021-02-15/
LOCATION:Bavarian State Opera\, Max-Joseph-Platz 2\, Munich\, Munich\, 80539\, Germany
ATTACH;FMTTYPE=image/jpeg:https://kyleket.com/wp-content/uploads/2023/02/9-1.jpg
GEO:48.139799065182;11.578791631733
X-APPLE-STRUCTURED-LOCATION;VALUE=URI;X-ADDRESS=Bavarian State Opera Max-Joseph-Platz 2 Munich Munich 80539 Germany;X-APPLE-RADIUS=500;X-TITLE=Max-Joseph-Platz 2:geo:11.578791631733,48.139799065182
END:VEVENT
BEGIN:VEVENT
DTSTART;TZID=America/Los_Angeles:20210213T190000
DTEND;TZID=America/Los_Angeles:20210213T230000
DTSTAMP:20260423T213018
CREATED:20230216T140435Z
LAST-MODIFIED:20230216T140454Z
UID:10000061-1613242800-1613257200@kyleket.com
SUMMARY:Kaspar - Der Freischütz - FREE LIVESTREAM
DESCRIPTION:
URL:https://kyleket.com/event/kaspar-der-freischutz-free-livestream/2021-02-13/
LOCATION:Bavarian State Opera\, Max-Joseph-Platz 2\, Munich\, Munich\, 80539\, Germany
ATTACH;FMTTYPE=image/jpeg:https://kyleket.com/wp-content/uploads/2023/02/9-1.jpg
GEO:48.139799065182;11.578791631733
X-APPLE-STRUCTURED-LOCATION;VALUE=URI;X-ADDRESS=Bavarian State Opera Max-Joseph-Platz 2 Munich Munich 80539 Germany;X-APPLE-RADIUS=500;X-TITLE=Max-Joseph-Platz 2:geo:11.578791631733,48.139799065182
END:VEVENT
BEGIN:VEVENT
DTSTART;TZID=America/Los_Angeles:20210207T110000
DTEND;TZID=America/Los_Angeles:20210207T150000
DTSTAMP:20260423T213018
CREATED:20230216T140756Z
LAST-MODIFIED:20230216T140756Z
UID:10000063-1612695600-1612710000@kyleket.com
SUMMARY:Kaspar - Der Freischütz - LIVESTREAM
DESCRIPTION:
URL:https://kyleket.com/event/kaspar-der-freischutz-livestream/
LOCATION:Bavarian State Opera\, Max-Joseph-Platz 2\, Munich\, Munich\, 80539\, Germany
ATTACH;FMTTYPE=image/jpeg:https://kyleket.com/wp-content/uploads/2023/02/9-1.jpg
GEO:48.139799065182;11.578791631733
X-APPLE-STRUCTURED-LOCATION;VALUE=URI;X-ADDRESS=Bavarian State Opera Max-Joseph-Platz 2 Munich Munich 80539 Germany;X-APPLE-RADIUS=500;X-TITLE=Max-Joseph-Platz 2:geo:11.578791631733,48.139799065182
END:VEVENT
BEGIN:VEVENT
DTSTART;TZID=America/Los_Angeles:20201002T200000
DTEND;TZID=America/Los_Angeles:20201002T233000
DTSTAMP:20260423T213018
CREATED:20230216T141232Z
LAST-MODIFIED:20230216T141609Z
UID:10000065-1601668800-1601681400@kyleket.com
SUMMARY:Escamillo - Carmen
DESCRIPTION:
URL:https://kyleket.com/event/escamillo-carmen/
LOCATION:Lincoln Center for the Performing Arts: Metropolitan Opera House\, Lincoln Center Plaza\, New York\, NY\, NY 10023\, United States
ATTACH;FMTTYPE=image/jpeg:https://kyleket.com/wp-content/uploads/2023/02/10-1.jpg
END:VEVENT
BEGIN:VEVENT
DTSTART;TZID=America/Los_Angeles:20200626T200000
DTEND;TZID=America/Los_Angeles:20200626T233000
DTSTAMP:20260423T213018
CREATED:20230216T141750Z
LAST-MODIFIED:20230216T141812Z
UID:10000064-1593201600-1593214200@kyleket.com
SUMMARY:St. François - St. François d'Assise
DESCRIPTION:
URL:https://kyleket.com/event/st-francois-st-francois-dassise/
LOCATION:Geneva Grand Theatre\, Bd du Théâtre 11\, Geneva\, Geneva\, 1204 Geneve\, Switzerland
ATTACH;FMTTYPE=image/jpeg:https://kyleket.com/wp-content/uploads/2023/02/11-1.jpg
END:VEVENT
BEGIN:VEVENT
DTSTART;TZID=America/Los_Angeles:20200322T140000
DTEND;TZID=America/Los_Angeles:20200322T180000
DTSTAMP:20260423T213018
CREATED:20230216T142501Z
LAST-MODIFIED:20230216T142523Z
UID:10000073-1584885600-1584900000@kyleket.com
SUMMARY:Leporello - Don Giovanni
DESCRIPTION:
URL:https://kyleket.com/event/leporello-don-giovanni/2020-03-22/
LOCATION:Kennedy Center: Opera House\, 2700 F St NW\, Washington\, WA\, DC 20566\, United States
ATTACH;FMTTYPE=image/webp:https://kyleket.com/wp-content/uploads/2023/02/12.webp
END:VEVENT
BEGIN:VEVENT
DTSTART;TZID=America/Los_Angeles:20200319T193000
DTEND;TZID=America/Los_Angeles:20200319T233000
DTSTAMP:20260423T213018
CREATED:20230216T142501Z
LAST-MODIFIED:20230216T142523Z
UID:10000072-1584646200-1584660600@kyleket.com
SUMMARY:Leporello - Don Giovanni
DESCRIPTION:
URL:https://kyleket.com/event/leporello-don-giovanni/2020-03-19/
LOCATION:Kennedy Center: Opera House\, 2700 F St NW\, Washington\, WA\, DC 20566\, United States
ATTACH;FMTTYPE=image/webp:https://kyleket.com/wp-content/uploads/2023/02/12.webp
END:VEVENT
BEGIN:VEVENT
DTSTART;TZID=America/Los_Angeles:20200314T190000
DTEND;TZID=America/Los_Angeles:20200314T230000
DTSTAMP:20260423T213018
CREATED:20230216T142501Z
LAST-MODIFIED:20230216T142523Z
UID:10000071-1584212400-1584226800@kyleket.com
SUMMARY:Leporello - Don Giovanni
DESCRIPTION:
URL:https://kyleket.com/event/leporello-don-giovanni/2020-03-14/
LOCATION:Kennedy Center: Opera House\, 2700 F St NW\, Washington\, WA\, DC 20566\, United States
ATTACH;FMTTYPE=image/webp:https://kyleket.com/wp-content/uploads/2023/02/12.webp
END:VEVENT
BEGIN:VEVENT
DTSTART;TZID=America/Los_Angeles:20200311T193000
DTEND;TZID=America/Los_Angeles:20200311T233000
DTSTAMP:20260423T213018
CREATED:20230216T142501Z
LAST-MODIFIED:20230216T142523Z
UID:10000070-1583955000-1583969400@kyleket.com
SUMMARY:Leporello - Don Giovanni
DESCRIPTION:
URL:https://kyleket.com/event/leporello-don-giovanni/2020-03-11/
LOCATION:Kennedy Center: Opera House\, 2700 F St NW\, Washington\, WA\, DC 20566\, United States
ATTACH;FMTTYPE=image/webp:https://kyleket.com/wp-content/uploads/2023/02/12.webp
END:VEVENT
BEGIN:VEVENT
DTSTART;TZID=America/Los_Angeles:20200308T140000
DTEND;TZID=America/Los_Angeles:20200308T180000
DTSTAMP:20260423T213018
CREATED:20230216T142501Z
LAST-MODIFIED:20230216T142523Z
UID:10000069-1583676000-1583690400@kyleket.com
SUMMARY:Leporello - Don Giovanni
DESCRIPTION:
URL:https://kyleket.com/event/leporello-don-giovanni/2020-03-08/
LOCATION:Kennedy Center: Opera House\, 2700 F St NW\, Washington\, WA\, DC 20566\, United States
ATTACH;FMTTYPE=image/webp:https://kyleket.com/wp-content/uploads/2023/02/12.webp
END:VEVENT
BEGIN:VEVENT
DTSTART;TZID=America/Los_Angeles:20200306T193000
DTEND;TZID=America/Los_Angeles:20200306T233000
DTSTAMP:20260423T213018
CREATED:20230216T142501Z
LAST-MODIFIED:20230216T142523Z
UID:10000068-1583523000-1583537400@kyleket.com
SUMMARY:Leporello - Don Giovanni
DESCRIPTION:
URL:https://kyleket.com/event/leporello-don-giovanni/2020-03-06/
LOCATION:Kennedy Center: Opera House\, 2700 F St NW\, Washington\, WA\, DC 20566\, United States
ATTACH;FMTTYPE=image/webp:https://kyleket.com/wp-content/uploads/2023/02/12.webp
END:VEVENT
BEGIN:VEVENT
DTSTART;TZID=America/Los_Angeles:20200302T190000
DTEND;TZID=America/Los_Angeles:20200302T230000
DTSTAMP:20260423T213018
CREATED:20230216T142501Z
LAST-MODIFIED:20230216T142523Z
UID:10000067-1583175600-1583190000@kyleket.com
SUMMARY:Leporello - Don Giovanni
DESCRIPTION:
URL:https://kyleket.com/event/leporello-don-giovanni/2020-03-02/
LOCATION:Kennedy Center: Opera House\, 2700 F St NW\, Washington\, WA\, DC 20566\, United States
ATTACH;FMTTYPE=image/webp:https://kyleket.com/wp-content/uploads/2023/02/12.webp
END:VEVENT
BEGIN:VEVENT
DTSTART;TZID=America/Los_Angeles:20200229T190000
DTEND;TZID=America/Los_Angeles:20200229T230000
DTSTAMP:20260423T213018
CREATED:20230216T142501Z
LAST-MODIFIED:20230216T142523Z
UID:10000066-1583002800-1583017200@kyleket.com
SUMMARY:Leporello - Don Giovanni
DESCRIPTION:
URL:https://kyleket.com/event/leporello-don-giovanni/2020-02-29/
LOCATION:Kennedy Center: Opera House\, 2700 F St NW\, Washington\, WA\, DC 20566\, United States
ATTACH;FMTTYPE=image/webp:https://kyleket.com/wp-content/uploads/2023/02/12.webp
END:VEVENT
END:VCALENDAR